BEGIN:VCALENDAR
VERSION:2.0
PRODID:-//Brooklyn Community Board 17 - ECPv6.15.20//NONSGML v1.0//EN
CALSCALE:GREGORIAN
METHOD:PUBLISH
X-ORIGINAL-URL:https://cbbrooklyn.cityofnewyork.us/cb17
X-WR-CALDESC:Events for Brooklyn Community Board 17
REFRESH-INTERVAL;VALUE=DURATION:PT1H
X-Robots-Tag:noindex
X-PUBLISHED-TTL:PT1H
BEGIN:VTIMEZONE
TZID:America/New_York
BEGIN:DAYLIGHT
TZOFFSETFROM:-0500
TZOFFSETTO:-0400
TZNAME:EDT
DTSTART:20240310T070000
END:DAYLIGHT
BEGIN:STANDARD
TZOFFSETFROM:-0400
TZOFFSETTO:-0500
TZNAME:EST
DTSTART:20241103T060000
END:STANDARD
BEGIN:DAYLIGHT
TZOFFSETFROM:-0500
TZOFFSETTO:-0400
TZNAME:EDT
DTSTART:20250309T070000
END:DAYLIGHT
BEGIN:STANDARD
TZOFFSETFROM:-0400
TZOFFSETTO:-0500
TZNAME:EST
DTSTART:20251102T060000
END:STANDARD
BEGIN:DAYLIGHT
TZOFFSETFROM:-0500
TZOFFSETTO:-0400
TZNAME:EDT
DTSTART:20260308T070000
END:DAYLIGHT
BEGIN:STANDARD
TZOFFSETFROM:-0400
TZOFFSETTO:-0500
TZNAME:EST
DTSTART:20261101T060000
END:STANDARD
END:VTIMEZONE
BEGIN:VEVENT
DTSTART;TZID=America/New_York:20250319T190000
DTEND;TZID=America/New_York:20250319T213000
DTSTAMP:20260419T222520
CREATED:20250319T182315Z
LAST-MODIFIED:20250319T182315Z
UID:10000940-1742410800-1742419800@cbbrooklyn.cityofnewyork.us
SUMMARY:General Board/Public Hearing
DESCRIPTION:Meeting link:\nhttps://nyccb.webex.com/nyccb/j.php?MTID=m3f55ec39f0c7d9331ff90aa058bcc0ce \nMeeting number:\n2334 371 3098 \nMeeting password:\naCnXeh9ZV45 \nJoin from a video system or application\nDial 23343713098@webex.com\nFor internal <sitename> users\, dial <Pilot Number>.\nYou can also dial 173.243.2.68 and enter your meeting number. \nJoin by phone\n+1-646-992-2010 Toll\n+1-408-418-9388 Toll\nAccess code: 23343713098 \nGlobal call-in numbers\nhttps://nyccb.webex.com/nyccb/globalcallin.php?MTID=m515a0fd67e6441fe57bf9a67ffaa91c5 \n 
URL:https://cbbrooklyn.cityofnewyork.us/cb17/event/general-board-public-hearing/
LOCATION:NY
END:VEVENT
END:VCALENDAR