BEGIN:VCALENDAR
VERSION:2.0
PRODID:-//Brooklyn Community Board 10 - ECPv6.15.20//NONSGML v1.0//EN
CALSCALE:GREGORIAN
METHOD:PUBLISH
X-ORIGINAL-URL:https://cbbrooklyn.cityofnewyork.us/cb10
X-WR-CALDESC:Events for Brooklyn Community Board 10
REFRESH-INTERVAL;VALUE=DURATION:PT1H
X-Robots-Tag:noindex
X-PUBLISHED-TTL:PT1H
BEGIN:VTIMEZONE
TZID:America/New_York
BEGIN:DAYLIGHT
TZOFFSETFROM:-0500
TZOFFSETTO:-0400
TZNAME:EDT
DTSTART:20240310T070000
END:DAYLIGHT
BEGIN:STANDARD
TZOFFSETFROM:-0400
TZOFFSETTO:-0500
TZNAME:EST
DTSTART:20241103T060000
END:STANDARD
BEGIN:DAYLIGHT
TZOFFSETFROM:-0500
TZOFFSETTO:-0400
TZNAME:EDT
DTSTART:20250309T070000
END:DAYLIGHT
BEGIN:STANDARD
TZOFFSETFROM:-0400
TZOFFSETTO:-0500
TZNAME:EST
DTSTART:20251102T060000
END:STANDARD
BEGIN:DAYLIGHT
TZOFFSETFROM:-0500
TZOFFSETTO:-0400
TZNAME:EDT
DTSTART:20260308T070000
END:DAYLIGHT
BEGIN:STANDARD
TZOFFSETFROM:-0400
TZOFFSETTO:-0500
TZNAME:EST
DTSTART:20261101T060000
END:STANDARD
END:VTIMEZONE
BEGIN:VEVENT
DTSTART;TZID=America/New_York:20250224T190000
DTEND;TZID=America/New_York:20250224T213000
DTSTAMP:20260421T233355
CREATED:20240820T160529Z
LAST-MODIFIED:20250221T160703Z
UID:10000401-1740423600-1740432600@cbbrooklyn.cityofnewyork.us
SUMMARY:CB10 GENERAL BOARD MEETING
DESCRIPTION:AGENDA: \nPUBLIC HEARINGS \n                         \nNew SLA liquor\, wine\, beer\, cider license at Bar Crudo              Committee Report and Recommendation \nLLC\,  9324 3rd Avenue                                                                     Discussion and Vote \n  \nNew SLA liquor\, wine\, beer\, cider license at ABVE Corp.          Committee Report and Recommendation       \n6803 3rd Avenue                                                                               Discussion and Vote \n  \nNew SLA liquor\, wine\, beer\, cider license at  \nFVSO Restaurant & Bar Corp.\, d/b/a Las Margaritas                 Committee Report and Recommendation \nRestaurant & Bar\, 9208 3rd Avenue                                              Discussion and Vote                                       \n  \nDOT Open Dining Roadway Café Application  \n40 feet long and 8 feet wide for 12 tables and                                 \n24 seats at Paneantico Bakery\, 9124 3rd Avenue                         Committee Report and Recommendation \nApplication No. 20240801030036                                                    Discussion and Vote \n  \nDOT Open Dining Sidewalk Café Application  \n71 feet long and 7 feet wide for 16 tables and                                 \n32 seats at Paneantico Bakery\, 9124 3rd Avenue                          Committee Report and Recommendation \nApplication No. 20240801030036                                                    Discussion and Vote \n                                                 \nDOT Open Dining Sidewalk Café Application  \n36 feet long and 9.5 feet wide for 8 tables and 32                           \nseats at Omonia Café\, 7612 3rd Avenue\,                                         Committee Report and Recommendation \nApplication No. 20240723030004                                                    Discussion and Vote \n  \nDOT Open Dining Sidewalk Café Application \n78 feet long and 6 feet wide for 5 tables and 10  \nseats at Bay Ridge Café of 4th Avenue\, 6802 4th                           Committee Report and Recommendation \nAvenue\, Application No. 20240803030023                                     Discussion and Vote \n  \nIn the matter of the adoption and support of the               \nBoard’s Capital and Expense Priorities for                                   Presentation by Chair \nFiscal Year 2026                                                                               Discussion and Vote \nTRAFFIC AND TRANSPORTATION COMMITTEE \n2025 SAPO Festival Applications Review: \n5th Avenue Festival\, June 1\, 2025\, 10 am – 6 pm\, 5th                    \nAvenue between Bay Ridge Avenue and 85th Street\,                   Committee Report and Recommendation \nSAPO ID 819889                                                                               Discussion and Vote \n3rd Avenue Festival\, September 28\, 2025\, 10 am – 6 pm\, \n3rd Avenue between Bay Ridge Avenue and 94 Street\,                Committee Report and Recommendation       \nSAPO ID 825027                                                                                Discussion and Vote \nHoly Cross Greek Cultural Festival\, September 18-21\, 2025\,  \n12 pm – 10 pm\, Ridge Blvd. between 84th Street and 86th          Committee Report and Recommendation \nStreet\, SAPO ID 826195                                                                    Discussion and Vote  \nHoly Cross Greek Cultural Festival\, September 18-21\, 2025\,  \n10 am – 10 pm\, 85 Street Between Ridge Blvd. and Colonial       Committee Report and Recommendation \nRoad\, SAPO ID 826514                                                                     Discussion and Vote   \nUpdate regarding planned CitiBike expansion into \nBay Ridge                                                                                          Informational Report \nPEDESTRIAN SAFETY SELECT COMMITTEE                                                                                    \nUpdate on Committee progress toward development of \nthe 2025 Pedestrian Safety Report                                                  Informational Report                                                            \nZONING AND LAND USE COMMITTEE \nUpdate on Committee review of public landmark sites                Committee Report and Recommendation  \nto be submitted for future consideration                                       Discussion and Vote \nUpdate on Committee review of adopted modification  \nsummary of City of Yes for Housing Opportunity text  \namendment                                                                                        Informational Report \n 
URL:https://cbbrooklyn.cityofnewyork.us/cb10/event/cb10-general-board-meeting-14/
LOCATION:In Person at Fort Hamilton Senior Center\, 9941 Ft. Hamilton Parkway and livestreamed to YouTube\, 9941 Ft Hamilton Parkway\, Brooklyn\, 11209\, United States
END:VEVENT
END:VCALENDAR