BEGIN:VCALENDAR
VERSION:2.0
PRODID:-//Brooklyn Community Board 7 - ECPv6.15.20//NONSGML v1.0//EN
CALSCALE:GREGORIAN
METHOD:PUBLISH
X-WR-CALNAME:Brooklyn Community Board 7
X-ORIGINAL-URL:https://cbbrooklyn.cityofnewyork.us/cb7
X-WR-CALDESC:Events for Brooklyn Community Board 7
REFRESH-INTERVAL;VALUE=DURATION:PT1H
X-Robots-Tag:noindex
X-PUBLISHED-TTL:PT1H
BEGIN:VTIMEZONE
TZID:America/New_York
BEGIN:DAYLIGHT
TZOFFSETFROM:-0500
TZOFFSETTO:-0400
TZNAME:EDT
DTSTART:20250309T070000
END:DAYLIGHT
BEGIN:STANDARD
TZOFFSETFROM:-0400
TZOFFSETTO:-0500
TZNAME:EST
DTSTART:20251102T060000
END:STANDARD
BEGIN:DAYLIGHT
TZOFFSETFROM:-0500
TZOFFSETTO:-0400
TZNAME:EDT
DTSTART:20260308T070000
END:DAYLIGHT
BEGIN:STANDARD
TZOFFSETFROM:-0400
TZOFFSETTO:-0500
TZNAME:EST
DTSTART:20261101T060000
END:STANDARD
BEGIN:DAYLIGHT
TZOFFSETFROM:-0500
TZOFFSETTO:-0400
TZNAME:EDT
DTSTART:20270314T070000
END:DAYLIGHT
BEGIN:STANDARD
TZOFFSETFROM:-0400
TZOFFSETTO:-0500
TZNAME:EST
DTSTART:20271107T060000
END:STANDARD
END:VTIMEZONE
BEGIN:VEVENT
DTSTART;TZID=America/New_York:20260428T183000
DTEND;TZID=America/New_York:20260428T203000
DTSTAMP:20260420T185927
CREATED:20260417T180836Z
LAST-MODIFIED:20260417T180858Z
UID:10000066-1777401000-1777408200@cbbrooklyn.cityofnewyork.us
SUMMARY:CB7 Joint Committee meeting with Transportation and Public Safety Committees - April 28
DESCRIPTION:There will be a joint committee meeting with the Transportation and Public Safety Committees on Tuesday\, April 28 @ 6:30pm at the CB7 Office located at 4201 4th Avenue (43rd Street entrance).\n\n\n\nAgenda:\n\n\n1. Presentation from Port Authority of New York & New Jersey (PANYNJ) on cargo drone pilot operating between lower Manhattan & the Brooklyn Army Terminal (BAT)\n\n2. Discussion on priority streets\, intersections\, and corridors related to public safety and transportation issues\n\n3. DOT report back on outreach taken on 3rd Avenue street improvement plan (Invited\, not yet confirmed)\n\n4. Brooklyn Army Terminal New Parking roll-out (EDC invited\, not yet confirmed)\n\n\nYou can attend in person or register to attend virtually on Zoom – https://bit.ly/3QiHupq\n\n\n\nYou can the committee meeting on the Brooklyn Community Board 7’s YouTube Channel:\n\nhttps://bit.ly/3uQlAtq
URL:https://cbbrooklyn.cityofnewyork.us/cb7/event/cb7-joint-committee-meeting-with-transportation-and-public-safety-committees-april-28/
END:VEVENT
BEGIN:VEVENT
DTSTART;TZID=America/New_York:20260504T183000
DTEND;TZID=America/New_York:20260504T193000
DTSTAMP:20260420T185927
CREATED:20260417T181019Z
LAST-MODIFIED:20260417T181019Z
UID:10000067-1777919400-1777923000@cbbrooklyn.cityofnewyork.us
SUMMARY:CB7 Joint Committee meeting with Parks & Environment and Economic Development & Small Businesses Committees - May 4
DESCRIPTION:Agenda TBA
URL:https://cbbrooklyn.cityofnewyork.us/cb7/event/cb7-joint-committee-meeting-with-parks-environment-and-economic-development-small-businesses-committees-may-4/
END:VEVENT
END:VCALENDAR