BEGIN:VCALENDAR
VERSION:2.0
PRODID:-//Brooklyn Community Board 7 - ECPv6.15.20//NONSGML v1.0//EN
CALSCALE:GREGORIAN
METHOD:PUBLISH
X-WR-CALNAME:Brooklyn Community Board 7
X-ORIGINAL-URL:https://cbbrooklyn.cityofnewyork.us/cb7
X-WR-CALDESC:Events for Brooklyn Community Board 7
REFRESH-INTERVAL;VALUE=DURATION:PT1H
X-Robots-Tag:noindex
X-PUBLISHED-TTL:PT1H
BEGIN:VTIMEZONE
TZID:America/New_York
BEGIN:DAYLIGHT
TZOFFSETFROM:-0500
TZOFFSETTO:-0400
TZNAME:EDT
DTSTART:20250309T070000
END:DAYLIGHT
BEGIN:STANDARD
TZOFFSETFROM:-0400
TZOFFSETTO:-0500
TZNAME:EST
DTSTART:20251102T060000
END:STANDARD
BEGIN:DAYLIGHT
TZOFFSETFROM:-0500
TZOFFSETTO:-0400
TZNAME:EDT
DTSTART:20260308T070000
END:DAYLIGHT
BEGIN:STANDARD
TZOFFSETFROM:-0400
TZOFFSETTO:-0500
TZNAME:EST
DTSTART:20261101T060000
END:STANDARD
BEGIN:DAYLIGHT
TZOFFSETFROM:-0500
TZOFFSETTO:-0400
TZNAME:EDT
DTSTART:20270314T070000
END:DAYLIGHT
BEGIN:STANDARD
TZOFFSETFROM:-0400
TZOFFSETTO:-0500
TZNAME:EST
DTSTART:20271107T060000
END:STANDARD
END:VTIMEZONE
BEGIN:VEVENT
DTSTART;TZID=America/New_York:20260324T183000
DTEND;TZID=America/New_York:20260324T200000
DTSTAMP:20260421T170604
CREATED:20260306T143941Z
LAST-MODIFIED:20260320T181606Z
UID:10000055-1774377000-1774382400@cbbrooklyn.cityofnewyork.us
SUMMARY:CB7 Education\, Health & Human Services Committee - March 24
DESCRIPTION:The CB7 Education\, Health & Human Services Committee will hold its next meeting on Tuesday\, March 24 @ 6:30pm at the  CB7 Office located at 4201 4th Avenue (entrance on 43rd Street).\n\n\n\nAgenda:\n\n\n\n\n\nPresentation from NYC Tax Prep\n\n\n\nUpdate from Maimonides Medical Center on the merger with NYC Health & Hospitals\n\n\n\n\n\nYou can attend in person or register to attend virtually on Zoom: https://bit.ly/4shmjSQ\n\n\n\nYou can view the committee meeting on the Brooklyn Community Board 7’s YouTube Channel:\n\nhttps://bit.ly/3uQlAtq
URL:https://cbbrooklyn.cityofnewyork.us/cb7/event/cb7-education-health-human-services-committee-march-24/
END:VEVENT
END:VCALENDAR