BEGIN:VCALENDAR
VERSION:2.0
PRODID:-//Brooklyn Community Board 7 - ECPv6.15.20//NONSGML v1.0//EN
CALSCALE:GREGORIAN
METHOD:PUBLISH
X-WR-CALNAME:Brooklyn Community Board 7
X-ORIGINAL-URL:https://cbbrooklyn.cityofnewyork.us/cb7
X-WR-CALDESC:Events for Brooklyn Community Board 7
REFRESH-INTERVAL;VALUE=DURATION:PT1H
X-Robots-Tag:noindex
X-PUBLISHED-TTL:PT1H
BEGIN:VTIMEZONE
TZID:America/New_York
BEGIN:DAYLIGHT
TZOFFSETFROM:-0500
TZOFFSETTO:-0400
TZNAME:EDT
DTSTART:20250309T070000
END:DAYLIGHT
BEGIN:STANDARD
TZOFFSETFROM:-0400
TZOFFSETTO:-0500
TZNAME:EST
DTSTART:20251102T060000
END:STANDARD
BEGIN:DAYLIGHT
TZOFFSETFROM:-0500
TZOFFSETTO:-0400
TZNAME:EDT
DTSTART:20260308T070000
END:DAYLIGHT
BEGIN:STANDARD
TZOFFSETFROM:-0400
TZOFFSETTO:-0500
TZNAME:EST
DTSTART:20261101T060000
END:STANDARD
BEGIN:DAYLIGHT
TZOFFSETFROM:-0500
TZOFFSETTO:-0400
TZNAME:EDT
DTSTART:20270314T070000
END:DAYLIGHT
BEGIN:STANDARD
TZOFFSETFROM:-0400
TZOFFSETTO:-0500
TZNAME:EST
DTSTART:20271107T060000
END:STANDARD
END:VTIMEZONE
BEGIN:VEVENT
DTSTART;TZID=America/New_York:20260318T183000
DTEND;TZID=America/New_York:20260318T203000
DTSTAMP:20260423T180010
CREATED:20260306T143841Z
LAST-MODIFIED:20260316T180304Z
UID:10000054-1773858600-1773865800@cbbrooklyn.cityofnewyork.us
SUMMARY:CB7 March Board Meeting - March 18
DESCRIPTION:The regular monthly board meeting of Community Board 7 will be held on Wednesday\, March 18\, 2026 @ 6:30 p.m. in the CB7 meeting room located at 4201 4th Avenue (enter on 43rd Street & 4th Avenue).\n\n\n\nYou can attend in person or register to attend the board meeting virtually via Zoom:\n\nhttps://bit.ly/4l8p0Df\n\n\nYou can view the board meeting on the Brooklyn Community Board 7’s YouTube Channel:\n\nhttps://bit.ly/3uQlAtq\n\n\n\nFollowing is the proposed agenda:\n\n\nPledge of Allegiance\nRoll Call\nOpening of the meeting\nAdoption of the agenda\nAdoption of the minutes of the February 25\, 2026 board meeting\nPublic Comment (3 minutes to speak on items on the agenda or general)\n\n\n\nCommittee Reports – A) Parks & Environment Committee – 1. Update from NYC Parks on capital projects in CD7\, 2. Greenwood Cemetery Living Collections Program\n\n\nB) Transportation Committee – 1. Low Traffic Neighborhood\, 2. Sammy’s Law implementation\, 3. Traffic and safety gaps near 19th to 20th Streets & 10th Avenue\, 4. Greenway event plans & 3rd Avenue street improvement plans\n\n8. 2nd Roll Call \n9. Elected Officials & Representatives \n10. Chairperson’s Report\n\n11. District Manager’s Report\n\n12. Old Business\n\n13. New Business\n\n14. Adjournment
URL:https://cbbrooklyn.cityofnewyork.us/cb7/event/cb7-march-board-meeting-march-18/
END:VEVENT
END:VCALENDAR