BEGIN:VCALENDAR
VERSION:2.0
PRODID:-//Brooklyn Community Board 7 - ECPv6.15.20//NONSGML v1.0//EN
CALSCALE:GREGORIAN
METHOD:PUBLISH
X-ORIGINAL-URL:https://cbbrooklyn.cityofnewyork.us/cb7
X-WR-CALDESC:Events for Brooklyn Community Board 7
REFRESH-INTERVAL;VALUE=DURATION:PT1H
X-Robots-Tag:noindex
X-PUBLISHED-TTL:PT1H
BEGIN:VTIMEZONE
TZID:America/New_York
BEGIN:DAYLIGHT
TZOFFSETFROM:-0500
TZOFFSETTO:-0400
TZNAME:EDT
DTSTART:20250309T070000
END:DAYLIGHT
BEGIN:STANDARD
TZOFFSETFROM:-0400
TZOFFSETTO:-0500
TZNAME:EST
DTSTART:20251102T060000
END:STANDARD
BEGIN:DAYLIGHT
TZOFFSETFROM:-0500
TZOFFSETTO:-0400
TZNAME:EDT
DTSTART:20260308T070000
END:DAYLIGHT
BEGIN:STANDARD
TZOFFSETFROM:-0400
TZOFFSETTO:-0500
TZNAME:EST
DTSTART:20261101T060000
END:STANDARD
BEGIN:DAYLIGHT
TZOFFSETFROM:-0500
TZOFFSETTO:-0400
TZNAME:EDT
DTSTART:20270314T070000
END:DAYLIGHT
BEGIN:STANDARD
TZOFFSETFROM:-0400
TZOFFSETTO:-0500
TZNAME:EST
DTSTART:20271107T060000
END:STANDARD
END:VTIMEZONE
BEGIN:VEVENT
DTSTART;TZID=America/New_York:20260203T183000
DTEND;TZID=America/New_York:20260203T200000
DTSTAMP:20260422T153851
CREATED:20260114T175908Z
LAST-MODIFIED:20260129T152841Z
UID:10000047-1770143400-1770148800@cbbrooklyn.cityofnewyork.us
SUMMARY:Joint Committee Meeting: Economic Development & Small Businesses with Transportation Committee
DESCRIPTION:There will be a joint committee meeting of the Economic Development & Small Businesses and Transportation Committees on Tuesday\, February 3 @ 6:30pm at the CB7 Office located at 4201 4th Avenue (enter on 43rd Street & 4th Avenue).\n\n\n\nAgenda:\n\n\n\n\nPresentation from NYC Planning on the NYC Industrial Plan\n\nPresentation from UPROSE on GRID 2.0 and the Special Purpose District\n\n  \nYou can attend in person or register to attend virtually on Zoom: \nhttps://bit.ly/4pArx9S \n  \nYou can view the committee meeting on the Brooklyn Community Board 7’s YouTube Channel: \nhttps://bit.ly/3uQlAtq \n  \n 
URL:https://cbbrooklyn.cityofnewyork.us/cb7/event/joint-committee-meeting-economic-development-small-businesses-with-transportation-committee/
END:VEVENT
END:VCALENDAR