BEGIN:VCALENDAR
VERSION:2.0
PRODID:-//Brooklyn Community Board 17 - ECPv6.15.20//NONSGML v1.0//EN
CALSCALE:GREGORIAN
METHOD:PUBLISH
X-ORIGINAL-URL:https://cbbrooklyn.cityofnewyork.us/cb17
X-WR-CALDESC:Events for Brooklyn Community Board 17
REFRESH-INTERVAL;VALUE=DURATION:PT1H
X-Robots-Tag:noindex
X-PUBLISHED-TTL:PT1H
BEGIN:VTIMEZONE
TZID:America/New_York
BEGIN:DAYLIGHT
TZOFFSETFROM:-0500
TZOFFSETTO:-0400
TZNAME:EDT
DTSTART:20220313T070000
END:DAYLIGHT
BEGIN:STANDARD
TZOFFSETFROM:-0400
TZOFFSETTO:-0500
TZNAME:EST
DTSTART:20221106T060000
END:STANDARD
BEGIN:DAYLIGHT
TZOFFSETFROM:-0500
TZOFFSETTO:-0400
TZNAME:EDT
DTSTART:20230312T070000
END:DAYLIGHT
BEGIN:STANDARD
TZOFFSETFROM:-0400
TZOFFSETTO:-0500
TZNAME:EST
DTSTART:20231105T060000
END:STANDARD
BEGIN:DAYLIGHT
TZOFFSETFROM:-0500
TZOFFSETTO:-0400
TZNAME:EDT
DTSTART:20240310T070000
END:DAYLIGHT
BEGIN:STANDARD
TZOFFSETFROM:-0400
TZOFFSETTO:-0500
TZNAME:EST
DTSTART:20241103T060000
END:STANDARD
END:VTIMEZONE
BEGIN:VEVENT
DTSTART;TZID=America/New_York:20230326T170000
DTEND;TZID=America/New_York:20230326T190000
DTSTAMP:20260425T092532
CREATED:20230315T190939Z
LAST-MODIFIED:20230315T191122Z
UID:10000443-1679850000-1679857200@cbbrooklyn.cityofnewyork.us
SUMMARY:Women of Distinction Award Ceremony | 5 - 7 PM
DESCRIPTION:Join Assemblymember Rodneyse Bichotte Hermelyn as we celebrate exceptional women in our community.\nSunday\, March 26th\, 5- 7 PM\nDon Buchwald Theater\nThe Leonard and Claire Tow Center for the Performing Arts\n2920 Campus Road Brooklyn\, NY 11210\nTo purchase tickets\, visit: https://www.eventbrite.com/e/women-of-distinction-award-ceremony-tickets-568200572207 \nPRESENTERS FOR 2023 \nMistress of Ceremonies – Joan Alexander-Bakiriddin \nSpecial Presenter – Dr. Marie Cerat \n \n2023 HONOREES \nShawn Alyse Campbell – Community Engagement Award \nUme-Kulsoom Butt – Business & Entrepreneurship Award \nJennifer Searles – Art & Entertainment Award \nLupe Ramsey – Environmental Activism Award \nFanny Ralbag – Education Award \nMari G. Millet – Health Award \nDonna Baptiste – Lifetime Achievement Award \nTo purchase tickets\, visit: https://www.eventbrite.com/e/women-of-distinction-award-ceremony-tickets-568200572207
URL:https://cbbrooklyn.cityofnewyork.us/cb17/event/women-of-distinction-award-ceremony-5-7-pm/
LOCATION:The Leonard and Claire Tow Center for the Performing Arts\, 2920 Campus Road\, Brooklyn\, 11210\, United States
END:VEVENT
END:VCALENDAR