BEGIN:VCALENDAR
VERSION:2.0
PRODID:-//Brooklyn Community Board 17 - ECPv6.15.20//NONSGML v1.0//EN
CALSCALE:GREGORIAN
METHOD:PUBLISH
X-ORIGINAL-URL:https://cbbrooklyn.cityofnewyork.us/cb17
X-WR-CALDESC:Events for Brooklyn Community Board 17
REFRESH-INTERVAL;VALUE=DURATION:PT1H
X-Robots-Tag:noindex
X-PUBLISHED-TTL:PT1H
BEGIN:VTIMEZONE
TZID:America/New_York
BEGIN:DAYLIGHT
TZOFFSETFROM:-0500
TZOFFSETTO:-0400
TZNAME:EDT
DTSTART:20240310T070000
END:DAYLIGHT
BEGIN:STANDARD
TZOFFSETFROM:-0400
TZOFFSETTO:-0500
TZNAME:EST
DTSTART:20241103T060000
END:STANDARD
BEGIN:DAYLIGHT
TZOFFSETFROM:-0500
TZOFFSETTO:-0400
TZNAME:EDT
DTSTART:20250309T070000
END:DAYLIGHT
BEGIN:STANDARD
TZOFFSETFROM:-0400
TZOFFSETTO:-0500
TZNAME:EST
DTSTART:20251102T060000
END:STANDARD
BEGIN:DAYLIGHT
TZOFFSETFROM:-0500
TZOFFSETTO:-0400
TZNAME:EDT
DTSTART:20260308T070000
END:DAYLIGHT
BEGIN:STANDARD
TZOFFSETFROM:-0400
TZOFFSETTO:-0500
TZNAME:EST
DTSTART:20261101T060000
END:STANDARD
END:VTIMEZONE
BEGIN:VEVENT
DTSTART;TZID=America/New_York:20250603T193000
DTEND;TZID=America/New_York:20250603T210000
DTSTAMP:20260424T095107
CREATED:20250319T174012Z
LAST-MODIFIED:20250319T174407Z
UID:10000798-1748979000-1748984400@cbbrooklyn.cityofnewyork.us
SUMMARY:Parks/Beautification Committee Meeting
DESCRIPTION:Meeting link:\nhttps://nyccb.webex.com/nyccb/j.php?MTID=m0565336266d7069c7072b13645f372ee \nMeeting number:\n2346 414 8656 \nMeeting password:\n2GaBrnkJ7M4
URL:https://cbbrooklyn.cityofnewyork.us/cb17/event/parks-beautification-committee-meeting-3-2/2025-06-03/
LOCATION:NY
END:VEVENT
BEGIN:VEVENT
DTSTART;TZID=America/New_York:20250611T193000
DTEND;TZID=America/New_York:20250611T210000
DTSTAMP:20260424T095107
CREATED:20250319T180851Z
LAST-MODIFIED:20250319T183305Z
UID:10000945-1749670200-1749675600@cbbrooklyn.cityofnewyork.us
SUMMARY:Youth/Education Committee Meeting
DESCRIPTION:https://nyccb.webex.com/nyccb/j.php?MTID=m789a21f2b6a1d2bfc5b80d16270052e5 \nMeeting number: 2339 323 1225 \nPassword: KtJXEfMH222
URL:https://cbbrooklyn.cityofnewyork.us/cb17/event/youth-education-committee-meeting-4/2025-06-11/
LOCATION:NY
END:VEVENT
BEGIN:VEVENT
DTSTART;TZID=America/New_York:20250616T193000
DTEND;TZID=America/New_York:20250616T210000
DTSTAMP:20260424T095107
CREATED:20250319T184018Z
LAST-MODIFIED:20250319T184110Z
UID:10001021-1750102200-1750107600@cbbrooklyn.cityofnewyork.us
SUMMARY:Sanitation/Environmental Committee Meeting
DESCRIPTION:https://nyccb.webex.com/nyccb/j.php?MTID=mc17d2352513ba4c4cf4ca5cc58494564 \nMeeting number: 2331 747 3312\nPassword: pUpAAz9e6P2 \n 
URL:https://cbbrooklyn.cityofnewyork.us/cb17/event/sanitation-environmental-committee-meeting-2/2025-06-16/
LOCATION:NY
END:VEVENT
BEGIN:VEVENT
DTSTART;TZID=America/New_York:20250617T190000
DTEND;TZID=America/New_York:20250617T210000
DTSTAMP:20260424T095107
CREATED:20250319T183109Z
LAST-MODIFIED:20250319T185653Z
UID:10001041-1750186800-1750194000@cbbrooklyn.cityofnewyork.us
SUMMARY:Commerce Committee Meeting
DESCRIPTION:https://nyccb.webex.com/nyccb/j.php?MTID=mbfc97e3c06addc1177d832ad5af49929 \nMeeting number: 2336 027 4824\nPassword: 42w2gXvPDfV \n 
URL:https://cbbrooklyn.cityofnewyork.us/cb17/event/commerce-committee-meeting-3/2025-06-17/
LOCATION:NY
END:VEVENT
BEGIN:VEVENT
DTSTART;TZID=America/New_York:20250618T080000
DTEND;TZID=America/New_York:20250618T170000
DTSTAMP:20260424T095107
CREATED:20250618T212341Z
LAST-MODIFIED:20250618T212341Z
UID:10001052-1750233600-1750266000@cbbrooklyn.cityofnewyork.us
SUMMARY:June General Board Meeting
DESCRIPTION:https://nyccb.webex.com/nyccb/j.php?MTID=m4106313b4ac2a5ed0529a461261ce179 \n 
URL:https://cbbrooklyn.cityofnewyork.us/cb17/event/june-general-board-meeting/
LOCATION:NY
END:VEVENT
BEGIN:VEVENT
DTSTART;TZID=America/New_York:20250623T193000
DTEND;TZID=America/New_York:20250623T210000
DTSTAMP:20260424T095107
CREATED:20250319T185417Z
LAST-MODIFIED:20250319T185417Z
UID:10001038-1750707000-1750712400@cbbrooklyn.cityofnewyork.us
SUMMARY:Hospitality/Social/Health Services Committee Meeting
DESCRIPTION:https://nyccb.webex.com/nyccb/j.php?MTID=m1e464b49815ba8a1902baa14b14086e4 \nMeeting number: 2346 924 7189\nPassword: wfMmYTCj344
URL:https://cbbrooklyn.cityofnewyork.us/cb17/event/hospitality-social-health-services-committee-meeting/2025-06-23/
LOCATION:NY
END:VEVENT
BEGIN:VEVENT
DTSTART;TZID=America/New_York:20250625T193000
DTEND;TZID=America/New_York:20250625T210000
DTSTAMP:20260424T095107
CREATED:20250319T190001Z
LAST-MODIFIED:20250319T190001Z
UID:10001044-1750879800-1750885200@cbbrooklyn.cityofnewyork.us
SUMMARY:Public Safety/Transportation Committee Meeting
DESCRIPTION:https://nyccb.webex.com/nyccb/j.php?MTID=m11167a7faeb76a6f1bb2b28531d7d440 \nMeeting number: 2344 006 8609\nPassword: 9muZcmAPR74
URL:https://cbbrooklyn.cityofnewyork.us/cb17/event/public-safety-transportation-committee-meeting/2025-06-25/
LOCATION:NY
END:VEVENT
BEGIN:VEVENT
DTSTART;TZID=America/New_York:20250628T160000
DTEND;TZID=America/New_York:20250628T160000
DTSTAMP:20260424T095107
CREATED:20250414T204824Z
LAST-MODIFIED:20250523T134837Z
UID:10001045-1751126400-1751126400@cbbrooklyn.cityofnewyork.us
SUMMARY:Annual Spelling Bee
DESCRIPTION:🎤 Spelling Bee Competition\n\n📅 Date: June 28\, 2025\n📍 Location: Chase Bank\, 891 Utica Avenue (between Snyder & Church Avenues)\n🕓 Time: 4:00 PM\n🎁 Prizes: Laptops\, Tablets\, $75 Gift Cards\n👧🏾 Grades: 2nd Grade to 8th Grade
URL:https://cbbrooklyn.cityofnewyork.us/cb17/event/annual-spelling-bee/
LOCATION:NY
END:VEVENT
END:VCALENDAR