BEGIN:VCALENDAR
VERSION:2.0
PRODID:-//Brooklyn Community Board 10 - ECPv6.15.20//NONSGML v1.0//EN
CALSCALE:GREGORIAN
METHOD:PUBLISH
X-ORIGINAL-URL:https://cbbrooklyn.cityofnewyork.us/cb10
X-WR-CALDESC:Events for Brooklyn Community Board 10
REFRESH-INTERVAL;VALUE=DURATION:PT1H
X-Robots-Tag:noindex
X-PUBLISHED-TTL:PT1H
BEGIN:VTIMEZONE
TZID:America/New_York
BEGIN:DAYLIGHT
TZOFFSETFROM:-0500
TZOFFSETTO:-0400
TZNAME:EDT
DTSTART:20220313T070000
END:DAYLIGHT
BEGIN:STANDARD
TZOFFSETFROM:-0400
TZOFFSETTO:-0500
TZNAME:EST
DTSTART:20221106T060000
END:STANDARD
BEGIN:DAYLIGHT
TZOFFSETFROM:-0500
TZOFFSETTO:-0400
TZNAME:EDT
DTSTART:20230312T070000
END:DAYLIGHT
BEGIN:STANDARD
TZOFFSETFROM:-0400
TZOFFSETTO:-0500
TZNAME:EST
DTSTART:20231105T060000
END:STANDARD
BEGIN:DAYLIGHT
TZOFFSETFROM:-0500
TZOFFSETTO:-0400
TZNAME:EDT
DTSTART:20240310T070000
END:DAYLIGHT
BEGIN:STANDARD
TZOFFSETFROM:-0400
TZOFFSETTO:-0500
TZNAME:EST
DTSTART:20241103T060000
END:STANDARD
END:VTIMEZONE
BEGIN:VEVENT
DTSTART;TZID=America/New_York:20231129T190000
DTEND;TZID=America/New_York:20231129T210000
DTSTAMP:20260420T165501
CREATED:20231116T163342Z
LAST-MODIFIED:20231116T202639Z
UID:10000362-1701284400-1701291600@cbbrooklyn.cityofnewyork.us
SUMMARY:Zoning and Land Use Committee Public In-Person Meeting
DESCRIPTION:Pease join Community Board 10 at a Public In-Person Meeting to discuss proposed sweeping zoning changes under the City of Yes – Zoning for Economic Opportunity citywide text amendment.  \nThis zoning proposal will change the types of businesses that can operate on shopping corridors citywide. Locally\, it will mean changes to uses that can operate along 3rd\, 4th\, 5th\, 11th\, 13th and Bay Ridge Avenues also Fort Hamilton Parkway.   It also seeks to change the definition of home occupation businesses and will allow retail uses in certain current residential zoned buildings.   Examples of the changes\, it will allow for light motor vehicle maintenance shops\, tire shops\, kennels\, manufacturing uses\, sewing shops\, research laboratories\, amusements\, nightclubs (less than 200 people) and dark stores (warehouses with no retail component).  In addition\, changes to uses within residential homes/apartments to add businesses like hair salons with 1-3 workers or pharmacy businesses\, that can operate 24 hours.  Corner homes in residential areas can become retail stores\, elimination of the designation “Commercial Overlay” in Residential Neighborhoods replaced with “Commercial” as primary use\, and much more.  \nJoin us on Wednesday\, November 29th at 7:00 pm at St. Anselm’s Meletia Hall\, 365 83rd Street\, use door marked “Boys” or view the livestream of the meeting over YouTube at bit.ly/3HLO5lw  \nRead about the proposal at https://on.nyc.gov/3uiQ50p. For questions or more information\, please email bk10@cb.nyc.gov.  \n 
URL:https://cbbrooklyn.cityofnewyork.us/cb10/event/zoning-and-land-use-committee-public-in-person-meeting/
LOCATION:St. Anselm Meletia Hall\, 365 83rd Street
END:VEVENT
END:VCALENDAR