BEGIN:VCALENDAR
VERSION:2.0
PRODID:-//Brooklyn Community Board 10 - ECPv6.15.20//NONSGML v1.0//EN
CALSCALE:GREGORIAN
METHOD:PUBLISH
X-ORIGINAL-URL:https://cbbrooklyn.cityofnewyork.us/cb10
X-WR-CALDESC:Events for Brooklyn Community Board 10
REFRESH-INTERVAL;VALUE=DURATION:PT1H
X-Robots-Tag:noindex
X-PUBLISHED-TTL:PT1H
BEGIN:VTIMEZONE
TZID:America/New_York
BEGIN:DAYLIGHT
TZOFFSETFROM:-0500
TZOFFSETTO:-0400
TZNAME:EDT
DTSTART:20240310T070000
END:DAYLIGHT
BEGIN:STANDARD
TZOFFSETFROM:-0400
TZOFFSETTO:-0500
TZNAME:EST
DTSTART:20241103T060000
END:STANDARD
BEGIN:DAYLIGHT
TZOFFSETFROM:-0500
TZOFFSETTO:-0400
TZNAME:EDT
DTSTART:20250309T070000
END:DAYLIGHT
BEGIN:STANDARD
TZOFFSETFROM:-0400
TZOFFSETTO:-0500
TZNAME:EST
DTSTART:20251102T060000
END:STANDARD
BEGIN:DAYLIGHT
TZOFFSETFROM:-0500
TZOFFSETTO:-0400
TZNAME:EDT
DTSTART:20260308T070000
END:DAYLIGHT
BEGIN:STANDARD
TZOFFSETFROM:-0400
TZOFFSETTO:-0500
TZNAME:EST
DTSTART:20261101T060000
END:STANDARD
BEGIN:DAYLIGHT
TZOFFSETFROM:-0500
TZOFFSETTO:-0400
TZNAME:EDT
DTSTART:20270314T070000
END:DAYLIGHT
BEGIN:STANDARD
TZOFFSETFROM:-0400
TZOFFSETTO:-0500
TZNAME:EST
DTSTART:20271107T060000
END:STANDARD
END:VTIMEZONE
BEGIN:VEVENT
DTSTART;TZID=America/New_York:20260415T190000
DTEND;TZID=America/New_York:20260415T213000
DTSTAMP:20260421T005857
CREATED:20260311T171929Z
LAST-MODIFIED:20260311T171929Z
UID:10000499-1776279600-1776288600@cbbrooklyn.cityofnewyork.us
SUMMARY:Zoning and Land Use Committee
DESCRIPTION:Agenda: \n\n\n\nDCP Application filed for 9305 5th Avenue Rezoning\, Project ID: 2025K0284\, seeking a Zoning map amendment and a zoning text amendment in order to facilitate the construction of a new 11-story\, 292 unit mixed-use commercial\, community facility\, and residential building
URL:https://cbbrooklyn.cityofnewyork.us/cb10/event/zoning-and-land-use-committee-14/
LOCATION:In person at the District Office and livestreamed to YouTube\, 8119 5th Avenue\, Brooklyn\, NY\, 11209\, United States
END:VEVENT
BEGIN:VEVENT
DTSTART;TZID=America/New_York:20260312T190000
DTEND;TZID=America/New_York:20260312T210000
DTSTAMP:20260421T005857
CREATED:20260306T202031Z
LAST-MODIFIED:20260306T202031Z
UID:10000497-1773342000-1773349200@cbbrooklyn.cityofnewyork.us
SUMMARY:Police and Public Safety Committee
DESCRIPTION:·        New SLA liquor\, wine\, beer\, cider application at Kate Steak Corp.\, 9226 4th Avenue \n·        Presentation by Representatives from CERT (Community Emergency Response Team)
URL:https://cbbrooklyn.cityofnewyork.us/cb10/event/police-and-public-safety-committee-20/
LOCATION:In person at the District Office and livestreamed to YouTube\, 8119 5th Avenue\, Brooklyn\, NY\, 11209\, United States
END:VEVENT
BEGIN:VEVENT
DTSTART;TZID=America/New_York:20260219T190000
DTEND;TZID=America/New_York:20260219T210000
DTSTAMP:20260421T005857
CREATED:20260127T150339Z
LAST-MODIFIED:20260213T210650Z
UID:10000492-1771527600-1771534800@cbbrooklyn.cityofnewyork.us
SUMMARY:Police and Public Safety Committee
DESCRIPTION:Agenda: \n\nReview of SLA wine\, beer\, cider application for Mikawa Japanese Fusion\, 7407 3rd Avenue\nReview of Class change to liquor\, wine\, beer\, cider license at Friandises Inc.\, d/b/a Sky Lounge\, 6709 5th Avenue\nReview of a new SLA liquor\, wine\, beer\, cider application for Schnitzel Haus\, 114 Bay Ridge Avenue\n\n 
URL:https://cbbrooklyn.cityofnewyork.us/cb10/event/police-and-public-safety-committee-19/
LOCATION:In person at the District Office and livestreamed to YouTube\, 8119 5th Avenue\, Brooklyn\, NY\, 11209\, United States
END:VEVENT
BEGIN:VEVENT
DTSTART;TZID=America/New_York:20260217T190000
DTEND;TZID=America/New_York:20260217T213000
DTSTAMP:20260421T005857
CREATED:20260127T150452Z
LAST-MODIFIED:20260213T210253Z
UID:10000493-1771354800-1771363800@cbbrooklyn.cityofnewyork.us
SUMMARY:Traffic and Transportation Committee
DESCRIPTION:Agenda: \n\nReview of 2026 Festival applications submitted to SAPO\nReview of NYC Truck Route Network Redesign Report\nIntroduction and presentation by PineappleRide regarding SAPO events planned for Shore Road and 69th Street beneath the overpass
URL:https://cbbrooklyn.cityofnewyork.us/cb10/event/traffic-and-transportation-committee-21/
LOCATION:In person at the District Office and livestreamed to YouTube\, 8119 5th Avenue\, Brooklyn\, NY\, 11209\, United States
END:VEVENT
BEGIN:VEVENT
DTSTART;TZID=America/New_York:20260127T190000
DTEND;TZID=America/New_York:20260127T210000
DTSTAMP:20260421T005857
CREATED:20251223T141820Z
LAST-MODIFIED:20251223T141820Z
UID:10000489-1769540400-1769547600@cbbrooklyn.cityofnewyork.us
SUMMARY:Older Adult Issues\, Housing\, Health and Welfare Committee
DESCRIPTION:Agenda: \nPresentation by representatives from NYU Langone and Public Health Solutions regarding the effects of vaping and health conditions that vaping may cause
URL:https://cbbrooklyn.cityofnewyork.us/cb10/event/older-adult-issues-housing-health-and-welfare-committee-6/
LOCATION:In person at the District Office and livestreamed to YouTube\, 8119 5th Avenue\, Brooklyn\, NY\, 11209\, United States
END:VEVENT
BEGIN:VEVENT
DTSTART;TZID=America/New_York:20260112T190000
DTEND;TZID=America/New_York:20260112T210000
DTSTAMP:20260421T005857
CREATED:20251223T140046Z
LAST-MODIFIED:20251223T140046Z
UID:10000487-1768244400-1768251600@cbbrooklyn.cityofnewyork.us
SUMMARY:Police and Public Safety Committee
DESCRIPTION:Agenda: \n\nReview of a new SLA wine\, beer\, cider application for Hana Sushi 168\, Inc.\, 524 86th Street\n\n 
URL:https://cbbrooklyn.cityofnewyork.us/cb10/event/police-and-public-safety-committee-18/
LOCATION:In person at the District Office and livestreamed to YouTube\, 8119 5th Avenue\, Brooklyn\, NY\, 11209\, United States
END:VEVENT
BEGIN:VEVENT
DTSTART;TZID=America/New_York:20260108T190000
DTEND;TZID=America/New_York:20260108T213000
DTSTAMP:20260421T005857
CREATED:20251126T194806Z
LAST-MODIFIED:20251126T194806Z
UID:10000486-1767898800-1767907800@cbbrooklyn.cityofnewyork.us
SUMMARY:Zoning and Land Use Committee
DESCRIPTION:Agenda: \n\n\n\nContinued review of DCP Application filed for 9201 4th Avenue Rezoning\, Project ID: 2025K0219\, seeking a Zoning map amendment and a zoning text amendment in order to facilitate the construction of a new 11-story plus cellar and sub-cellar mixed-use commercial and residential building
URL:https://cbbrooklyn.cityofnewyork.us/cb10/event/zoning-and-land-use-committee-12/
LOCATION:In person at the District Office and livestreamed to YouTube\, 8119 5th Avenue\, Brooklyn\, NY\, 11209\, United States
END:VEVENT
BEGIN:VEVENT
DTSTART;TZID=America/New_York:20260106T180000
DTEND;TZID=America/New_York:20260106T190000
DTSTAMP:20260421T005857
CREATED:20251223T140246Z
LAST-MODIFIED:20251223T140246Z
UID:10000488-1767722400-1767726000@cbbrooklyn.cityofnewyork.us
SUMMARY:Older Adult Issues\, Housing\, Health and Welfare Committee
DESCRIPTION:Agenda: \nUpdate by Maimonides Medical Center regarding Health & Hospitals Partnership
URL:https://cbbrooklyn.cityofnewyork.us/cb10/event/older-adult-issues-housing-health-and-welfare-committee-5/
LOCATION:In person at the District Office and livestreamed to YouTube\, 8119 5th Avenue\, Brooklyn\, NY\, 11209\, United States
END:VEVENT
BEGIN:VEVENT
DTSTART;TZID=America/New_York:20251211T190000
DTEND;TZID=America/New_York:20251211T210000
DTSTAMP:20260421T005857
CREATED:20251126T153937Z
LAST-MODIFIED:20251126T153937Z
UID:10000483-1765479600-1765486800@cbbrooklyn.cityofnewyork.us
SUMMARY:Joint Police and Public Safety and Older Adult Issues\, Housing\, Health and Welfare Committee Meeting
DESCRIPTION:Agenda: \nA representative from FDNY will join the meeting to discuss ambulance transport protocol following a 911 call \nReview of Adult-Use retail dispensary license at Rodney Crump\, 7119 5th Avenue \n 
URL:https://cbbrooklyn.cityofnewyork.us/cb10/event/joint-police-and-public-safety-and-older-adult-issues-housing-health-and-welfare-committee-meeting/
LOCATION:In person at the District Office and livestreamed to YouTube\, 8119 5th Avenue\, Brooklyn\, NY\, 11209\, United States
END:VEVENT
BEGIN:VEVENT
DTSTART;TZID=America/New_York:20251209T190000
DTEND;TZID=America/New_York:20251209T213000
DTSTAMP:20260421T005857
CREATED:20251126T154157Z
LAST-MODIFIED:20251126T164936Z
UID:10000484-1765306800-1765315800@cbbrooklyn.cityofnewyork.us
SUMMARY:Traffic and Transportation Committee
DESCRIPTION:Agenda: \nContinued review of Dining Out NYC sidewalk café application number 20251013030001 for Al Sham Restaurant\, 7701 5th Avenue \nContinued review of NYC Council Intros No. 1421\, 1444 and 1446 concerning changes to the NYC DOT Outdoor Dining Program
URL:https://cbbrooklyn.cityofnewyork.us/cb10/event/traffic-and-transportation-committee-20/
LOCATION:In person at the District Office and livestreamed to YouTube\, 8119 5th Avenue\, Brooklyn\, NY\, 11209\, United States
END:VEVENT
BEGIN:VEVENT
DTSTART;TZID=America/New_York:20251208T190000
DTEND;TZID=America/New_York:20251208T213000
DTSTAMP:20260421T005857
CREATED:20251126T153048Z
LAST-MODIFIED:20251126T154024Z
UID:10000481-1765220400-1765229400@cbbrooklyn.cityofnewyork.us
SUMMARY:Zoning and Land Use Committee
DESCRIPTION:Agenda: \n\n\n\nReview of DCP Application filed for 9201 4th Avenue Rezoning\, Project ID: 2025K0219\, seeking a Zoning map amendment and a zoning text amendment in order to facilitate the construction of a new 11-story plus cellar and sub-cellar mixed-use commercial and residential building\nReview of ZAP Portal with focus on how to access applicant filings/public documents\nCommittee Member submissions for potential landmarking locations within CD10
URL:https://cbbrooklyn.cityofnewyork.us/cb10/event/traffic-and-transportation-committee-19/
LOCATION:In person at the District Office and livestreamed to YouTube\, 8119 5th Avenue\, Brooklyn\, NY\, 11209\, United States
END:VEVENT
BEGIN:VEVENT
DTSTART;TZID=America/New_York:20251124T190000
DTEND;TZID=America/New_York:20251124T213000
DTSTAMP:20260421T005857
CREATED:20251030T180526Z
LAST-MODIFIED:20251112T214007Z
UID:10000477-1764010800-1764019800@cbbrooklyn.cityofnewyork.us
SUMMARY:Traffic and Transportation Committee
DESCRIPTION:Agenda: \nT&T Committee comments regarding the IBX will be formulated for presentation to the full Board. \nReview of City Council legislation related to outdoor dining. \n 
URL:https://cbbrooklyn.cityofnewyork.us/cb10/event/traffic-and-transportation-committee-18/
LOCATION:In person at the District Office and livestreamed to YouTube\, 8119 5th Avenue\, Brooklyn\, NY\, 11209\, United States
END:VEVENT
BEGIN:VEVENT
DTSTART;TZID=America/New_York:20251112T190000
DTEND;TZID=America/New_York:20251112T210000
DTSTAMP:20260421T005857
CREATED:20251030T182209Z
LAST-MODIFIED:20251030T182209Z
UID:10000479-1762974000-1762981200@cbbrooklyn.cityofnewyork.us
SUMMARY:Police and Public Safety Committee
DESCRIPTION:Agenda: \n\nReview of Adult Use Retail Dispensary Cannabis Microbusiness license at LFG Distribution LLC\, 445 Bay Ridge Avenue\nReview of a new SLA wine\, beer\, cider application for Taverna Ambrosia LLC d/b/a King Souvlaki\n\n 
URL:https://cbbrooklyn.cityofnewyork.us/cb10/event/police-and-public-safety-committee-17/
LOCATION:In person at the District Office and livestreamed to YouTube\, 8119 5th Avenue\, Brooklyn\, NY\, 11209\, United States
END:VEVENT
BEGIN:VEVENT
DTSTART;TZID=America/New_York:20251028T190000
DTEND;TZID=America/New_York:20251028T210000
DTSTAMP:20260421T005857
CREATED:20251020T200738Z
LAST-MODIFIED:20251020T201319Z
UID:10000475-1761678000-1761685200@cbbrooklyn.cityofnewyork.us
SUMMARY:Environmental Committee
DESCRIPTION:Environmental Committee \n.  Recurring sewer backups on 72nd Street between Narrows Avenue and Colonial Road – DEP Representatives will be attendance
URL:https://cbbrooklyn.cityofnewyork.us/cb10/event/environmental-committee-8/
LOCATION:In person at the District Office and livestreamed to YouTube\, 8119 5th Avenue\, Brooklyn\, NY\, 11209\, United States
END:VEVENT
BEGIN:VEVENT
DTSTART;TZID=America/New_York:20251016T190000
DTEND;TZID=America/New_York:20251016T210000
DTSTAMP:20260421T005857
CREATED:20250922T164457Z
LAST-MODIFIED:20251002T193919Z
UID:10000473-1760641200-1760648400@cbbrooklyn.cityofnewyork.us
SUMMARY:Police and Public Safety Committee
DESCRIPTION:Agenda: \nReview of new liquor/wine/beer/cider application (change of ownership) for Bay Ridge Manor LLC\, 476 76th Street \nReview of new liquor/wine/beer/cider license at Cecchino’s Pizzeria Inc.\, 8702 3rd Avenue \nReview of new liquor/wine/beer/cider license at Arion Brooklyn Corp. d/b/a Kampos Taverna\, 8413 3rd Avenue \nReview of application submitted by OV Enterprises LLC\, 9206 3rd Avenue\, for a new adult-use retail cannabis dispensary license \n 
URL:https://cbbrooklyn.cityofnewyork.us/cb10/event/police-and-public-safety-committee-16/
LOCATION:In person at the District Office and livestreamed to YouTube\, 8119 5th Avenue\, Brooklyn\, NY\, 11209\, United States
END:VEVENT
BEGIN:VEVENT
DTSTART;TZID=America/New_York:20251006T190000
DTEND;TZID=America/New_York:20251006T213000
DTSTAMP:20260421T005857
CREATED:20250922T163632Z
LAST-MODIFIED:20250922T163632Z
UID:10000470-1759777200-1759786200@cbbrooklyn.cityofnewyork.us
SUMMARY:Traffic and Transportation Committee
DESCRIPTION:Agenda: \nReview of Dining Out NYC sidewalk café application at Milk and Honey Café 94\, 9402 3rd Avenue for 12 tables in a sidewalk café 5 feet wide and 62.3 feet long\, beginning on 3rd Avenue and extending around onto 94th Street
URL:https://cbbrooklyn.cityofnewyork.us/cb10/event/traffic-and-transportation-committee-16/
LOCATION:In person at the District Office and livestreamed to YouTube\, 8119 5th Avenue\, Brooklyn\, NY\, 11209\, United States
END:VEVENT
BEGIN:VEVENT
DTSTART;TZID=America/New_York:20250930T190000
DTEND;TZID=America/New_York:20250930T220000
DTSTAMP:20260421T005857
CREATED:20250922T163323Z
LAST-MODIFIED:20250922T163323Z
UID:10000469-1759258800-1759269600@cbbrooklyn.cityofnewyork.us
SUMMARY:Environmental Committee
DESCRIPTION:Agenda: \n· Presentation by DEP Brooklyn Borough Commissioner regarding proposed capital upgrades at Owl’s Head Wastewater Treatment Plant \n· Continued review of NYS bill S1464/A1749\, Packaging Reduction and Recycling Infrastructure Act that will address the growing problem of single-use plastics
URL:https://cbbrooklyn.cityofnewyork.us/cb10/event/environmental-committee-7/
LOCATION:In person at the District Office and livestreamed to YouTube\, 8119 5th Avenue\, Brooklyn\, NY\, 11209\, United States
END:VEVENT
BEGIN:VEVENT
DTSTART;TZID=America/New_York:20250917T190000
DTEND;TZID=America/New_York:20250917T220000
DTSTAMP:20260421T005857
CREATED:20250909T163944Z
LAST-MODIFIED:20250909T163944Z
UID:10000467-1758135600-1758146400@cbbrooklyn.cityofnewyork.us
SUMMARY:Environmental Committee
DESCRIPTION:Agenda: \nDEC Brownfield Cleanup Site at 5th Avenue and 89th Street followup \nPresentation by Beyond Plastics in support of state bill S1464/A1749\, the Packaging Reduction and Recycling Infrastructure Act
URL:https://cbbrooklyn.cityofnewyork.us/cb10/event/environmental-committee-6/
LOCATION:In person at the District Office and livestreamed to YouTube\, 8119 5th Avenue\, Brooklyn\, NY\, 11209\, United States
END:VEVENT
BEGIN:VEVENT
DTSTART;TZID=America/New_York:20250916T180000
DTEND;TZID=America/New_York:20250916T190000
DTSTAMP:20260421T005857
CREATED:20250909T163658Z
LAST-MODIFIED:20250909T163658Z
UID:10000466-1758045600-1758049200@cbbrooklyn.cityofnewyork.us
SUMMARY:Older Adult Issues\, Housing\, Health and Welfare Committee
DESCRIPTION:Agenda: \nPresentation by Maimonides Medical Center regarding hospital updates \nBrief presentation by Catholic Charities regarding their services
URL:https://cbbrooklyn.cityofnewyork.us/cb10/event/older-adult-issues-housing-health-and-welfare-committee-4/
LOCATION:In person at the District Office and livestreamed to YouTube\, 8119 5th Avenue\, Brooklyn\, NY\, 11209\, United States
END:VEVENT
BEGIN:VEVENT
DTSTART;TZID=America/New_York:20250910T190000
DTEND;TZID=America/New_York:20250910T210000
DTSTAMP:20260421T005857
CREATED:20250829T155823Z
LAST-MODIFIED:20250829T155937Z
UID:10000455-1757530800-1757538000@cbbrooklyn.cityofnewyork.us
SUMMARY:Police and Public Safety Committee
DESCRIPTION:Agenda: \nReview of new wine/beer/cider application for Las Chelitas Restaurant\, 7312 13th Avenue \n·        Review of new liquor/wine/beer/cider application for 66 KTV Inc.\, 911 66th Street \n 
URL:https://cbbrooklyn.cityofnewyork.us/cb10/event/police-and-public-safety-committee-15/
LOCATION:In person at the District Office and livestreamed to YouTube\, 8119 5th Avenue\, Brooklyn\, NY\, 11209\, United States
END:VEVENT
BEGIN:VEVENT
DTSTART;TZID=America/New_York:20250626T183000
DTEND;TZID=America/New_York:20250626T213000
DTSTAMP:20260421T005857
CREATED:20250626T133102Z
LAST-MODIFIED:20250626T133102Z
UID:10000452-1750962600-1750973400@cbbrooklyn.cityofnewyork.us
SUMMARY:Traffic and Transportation Committee
DESCRIPTION:Agenda: \n· DOT Representatives will present the 65th Street SIP (Safety Improvement Plan).
URL:https://cbbrooklyn.cityofnewyork.us/cb10/event/traffic-and-transportation-committee-15/
LOCATION:In person at the District Office and livestreamed to YouTube\, 8119 5th Avenue\, Brooklyn\, NY\, 11209\, United States
END:VEVENT
BEGIN:VEVENT
DTSTART;TZID=America/New_York:20250612T180000
DTEND;TZID=America/New_York:20250612T190000
DTSTAMP:20260421T005857
CREATED:20250603T201440Z
LAST-MODIFIED:20250605T195029Z
UID:10000449-1749751200-1749754800@cbbrooklyn.cityofnewyork.us
SUMMARY:Older Adult Issues\, Housing\, Health and Welfare Committee
DESCRIPTION:Agenda: \nRequest for CB10 to support and advocate on behalf of the NYC Municipal Retirees to preserve retiree health care choices
URL:https://cbbrooklyn.cityofnewyork.us/cb10/event/older-adult-issues-housing-health-and-welfare-committee-3/
LOCATION:In person at the District Office and livestreamed to YouTube\, 8119 5th Avenue\, Brooklyn\, NY\, 11209\, United States
END:VEVENT
BEGIN:VEVENT
DTSTART;TZID=America/New_York:20250610T190000
DTEND;TZID=America/New_York:20250610T213000
DTSTAMP:20260421T005857
CREATED:20250527T132254Z
LAST-MODIFIED:20250527T132254Z
UID:10000447-1749582000-1749591000@cbbrooklyn.cityofnewyork.us
SUMMARY:Traffic and Transportation Committee
DESCRIPTION:Agenda: \n· Continued Review of Citibike expansion into Bay Ridge
URL:https://cbbrooklyn.cityofnewyork.us/cb10/event/traffic-and-transportation-committee-14/
LOCATION:In person at the District Office and livestreamed to YouTube\, 8119 5th Avenue\, Brooklyn\, NY\, 11209\, United States
END:VEVENT
BEGIN:VEVENT
DTSTART;TZID=America/New_York:20250609T190000
DTEND;TZID=America/New_York:20250609T213000
DTSTAMP:20260421T005857
CREATED:20250527T132618Z
LAST-MODIFIED:20250605T195410Z
UID:10000448-1749495600-1749504600@cbbrooklyn.cityofnewyork.us
SUMMARY:Police and Public Safety Committee
DESCRIPTION:Agenda: \nNew SLA wine/beer/cider license at Narrows Coffee Inc. 10001 4th Avenue \nNew SLA wine/beer/cider license at PSENS LLC\, d/b/a Come On Thai\, 7803 3rd Avenue \nNew SLA liquor/wine/beer/cider license at Marestclau Inc. d/b/a Piccante\, 7410 yd Avenue \nReview of renewal of SLA liquor/wine/beer/cider license at DRG Chophouse Inc.\, d/b/a Malone’s Chop House\, 9517-9519 3rd Avenue \nReview of change of class application for Gourmet Fit LLC d/b/a Sarava Bistro
URL:https://cbbrooklyn.cityofnewyork.us/cb10/event/police-and-public-safety-committee-14/
LOCATION:In person at the District Office and livestreamed to YouTube\, 8119 5th Avenue\, Brooklyn\, NY\, 11209\, United States
END:VEVENT
BEGIN:VEVENT
DTSTART;TZID=America/New_York:20250522T190000
DTEND;TZID=America/New_York:20250522T213000
DTSTAMP:20260421T005857
CREATED:20250522T124255Z
LAST-MODIFIED:20250522T124255Z
UID:10000445-1747940400-1747949400@cbbrooklyn.cityofnewyork.us
SUMMARY:Traffic and Transportation Committee
DESCRIPTION:Agenda: \n· Representatives from the 68th Precinct will attend to discuss enforcement questions/challenges in the command regarding e-scooters and other motorized devices
URL:https://cbbrooklyn.cityofnewyork.us/cb10/event/traffic-and-transportation-committee-13/
LOCATION:In person at the District Office and livestreamed to YouTube\, 8119 5th Avenue\, Brooklyn\, NY\, 11209\, United States
END:VEVENT
BEGIN:VEVENT
DTSTART;TZID=America/New_York:20250515T190000
DTEND;TZID=America/New_York:20250515T213000
DTSTAMP:20260421T005857
CREATED:20250422T145510Z
LAST-MODIFIED:20250422T145510Z
UID:10000441-1747335600-1747344600@cbbrooklyn.cityofnewyork.us
SUMMARY:Traffic and Transportation Committee
DESCRIPTION:Agenda: \nContinued Street Naming application review for 71st Street and 11th Avenue in memory of Rosa Casella \nPresentation by DOT Representatives on the expansion of Citi Bike stations in Bay Ridge
URL:https://cbbrooklyn.cityofnewyork.us/cb10/event/traffic-and-transportation-committee-12/
LOCATION:In person at the District Office and livestreamed to YouTube\, 8119 5th Avenue\, Brooklyn\, NY\, 11209\, United States
END:VEVENT
BEGIN:VEVENT
DTSTART;TZID=America/New_York:20250508T190000
DTEND;TZID=America/New_York:20250508T220000
DTSTAMP:20260421T005857
CREATED:20250422T150313Z
LAST-MODIFIED:20250422T150313Z
UID:10000443-1746730800-1746741600@cbbrooklyn.cityofnewyork.us
SUMMARY:Older Adult Issues\, Housing\, Health and Welfare Committee
DESCRIPTION:The following groups have been invited to make a presentation about services they offer: \n\nLiveOnNY – sharing the importance of organ donation\nWholeYouNYC-Social Care Network at Public Health Solutions\nShore Hill Older Adult Center/Seniors in Touch\nOHEL – Living in Place
URL:https://cbbrooklyn.cityofnewyork.us/cb10/event/older-adult-issues-housing-health-and-welfare-committee-2/
LOCATION:In person at the District Office and livestreamed to YouTube\, 8119 5th Avenue\, Brooklyn\, NY\, 11209\, United States
END:VEVENT
BEGIN:VEVENT
DTSTART;TZID=America/New_York:20250507T190000
DTEND;TZID=America/New_York:20250507T213000
DTSTAMP:20260421T005857
CREATED:20250422T144409Z
LAST-MODIFIED:20250429T175318Z
UID:10000440-1746644400-1746653400@cbbrooklyn.cityofnewyork.us
SUMMARY:Police and Public Safety Committee
DESCRIPTION:Agenda: \nNew SLA wine\, beer\, cider license application at Fat Boy Noodle Bar Inc.\, 308 86 Street \nNew SLA liquor\, wine\, beer\, cider license application at Arom Dee Thai Cuisine\, 6735 3rd Avenue \nNew SLA wine\, beer\, cider license application at Miro Sushi Inc\,. 533 86 Street \n 
URL:https://cbbrooklyn.cityofnewyork.us/cb10/event/police-and-public-safety-committee-13/
LOCATION:In person at the District Office and livestreamed to YouTube\, 8119 5th Avenue\, Brooklyn\, NY\, 11209\, United States
END:VEVENT
BEGIN:VEVENT
DTSTART;TZID=America/New_York:20250415T190000
DTEND;TZID=America/New_York:20250415T213000
DTSTAMP:20260421T005857
CREATED:20250305T202209Z
LAST-MODIFIED:20250401T153644Z
UID:10000434-1744743600-1744752600@cbbrooklyn.cityofnewyork.us
SUMMARY:Traffic and Transportation Committee
DESCRIPTION:Agenda: \n\nPresentation by Tara Das\, Assistant VP\, Government and Community Relations NYC Economic Development Corporation regarding NYC Ferry\nReview of Street Renaming of Public Area Application – 71st Street at 11th Avenue (east side) for Rosa Casella\nReview of Dining Out NYC Application for Skinflints Restaurant Inc.\, 7902 5th Avenue\, Application No. 20240803030032\, for a sidewalk café on 79th Street\, 53 feet long and 5 feet wide with 5 tables and 20 seats\, AND on 5th Avenue\, 16.5 feet long and 5 feet wide with 2 tables and 8 seats
URL:https://cbbrooklyn.cityofnewyork.us/cb10/event/traffic-and-transportation-committee-11/
LOCATION:In person at the District Office and livestreamed to YouTube\, 8119 5th Avenue\, Brooklyn\, NY\, 11209\, United States
END:VEVENT
BEGIN:VEVENT
DTSTART;TZID=America/New_York:20250410T190000
DTEND;TZID=America/New_York:20250410T213000
DTSTAMP:20260421T005857
CREATED:20250401T153036Z
LAST-MODIFIED:20250401T153036Z
UID:10000439-1744311600-1744320600@cbbrooklyn.cityofnewyork.us
SUMMARY:Police and Public Safety Committee
DESCRIPTION:Agenda: \n· New SLA liquor\, wine\, beer\, cider application at Hun Ting Ying\, d/b/a Arom Dee Thai Cuisine\, 6735 3rd Avenue \n· New SLA wine\, beer\, cider application at Friandisees\, Inc.\, d/b/a Sky Lounge\, 6709 5th Avenue \n· New SLA liquor\, wine\, beer\, cider application at Bodega NYC Productions LLC\, d/b/a Bodega NYC\, 9221 5th Avenue \n· Request for modification of stipulation agreement from February of 2022 for 66 Club Inc.\, d/b/a Moonlight Restaurant\, 815 66th Street. This SLA license is currently up renewal. \n· New Adult-Use Retail Dispensary Application for IGAL Consulting\, Inc.\, 8417 5th Avenu \n 
URL:https://cbbrooklyn.cityofnewyork.us/cb10/event/police-and-public-safety-committee-12/
LOCATION:In person at the District Office and livestreamed to YouTube\, 8119 5th Avenue\, Brooklyn\, NY\, 11209\, United States
END:VEVENT
END:VCALENDAR