BEGIN:VCALENDAR
VERSION:2.0
PRODID:-//Brooklyn Community Board 10 - ECPv6.15.20//NONSGML v1.0//EN
CALSCALE:GREGORIAN
METHOD:PUBLISH
X-ORIGINAL-URL:https://cbbrooklyn.cityofnewyork.us/cb10
X-WR-CALDESC:Events for Brooklyn Community Board 10
REFRESH-INTERVAL;VALUE=DURATION:PT1H
X-Robots-Tag:noindex
X-PUBLISHED-TTL:PT1H
BEGIN:VTIMEZONE
TZID:America/New_York
BEGIN:DAYLIGHT
TZOFFSETFROM:-0500
TZOFFSETTO:-0400
TZNAME:EDT
DTSTART:20240310T070000
END:DAYLIGHT
BEGIN:STANDARD
TZOFFSETFROM:-0400
TZOFFSETTO:-0500
TZNAME:EST
DTSTART:20241103T060000
END:STANDARD
BEGIN:DAYLIGHT
TZOFFSETFROM:-0500
TZOFFSETTO:-0400
TZNAME:EDT
DTSTART:20250309T070000
END:DAYLIGHT
BEGIN:STANDARD
TZOFFSETFROM:-0400
TZOFFSETTO:-0500
TZNAME:EST
DTSTART:20251102T060000
END:STANDARD
BEGIN:DAYLIGHT
TZOFFSETFROM:-0500
TZOFFSETTO:-0400
TZNAME:EDT
DTSTART:20260308T070000
END:DAYLIGHT
BEGIN:STANDARD
TZOFFSETFROM:-0400
TZOFFSETTO:-0500
TZNAME:EST
DTSTART:20261101T060000
END:STANDARD
END:VTIMEZONE
BEGIN:VEVENT
DTSTART;TZID=America/New_York:20250311T190000
DTEND;TZID=America/New_York:20250311T213000
DTSTAMP:20260423T081931
CREATED:20250305T202420Z
LAST-MODIFIED:20250305T202420Z
UID:10000435-1741719600-1741728600@cbbrooklyn.cityofnewyork.us
SUMMARY:Pedestrian Safety Select Committee
DESCRIPTION:Agenda: \n· Finalize Street Survey \n· Preparation for volunteer effort
URL:https://cbbrooklyn.cityofnewyork.us/cb10/event/pedestrian-safety-select-committee-2/
LOCATION:In person at the District Office and livestreamed to YouTube\, 8119 5th Avenue\, Brooklyn\, NY\, 11209\, United States
END:VEVENT
BEGIN:VEVENT
DTSTART;TZID=America/New_York:20250312T190000
DTEND;TZID=America/New_York:20250312T213000
DTSTAMP:20260423T081931
CREATED:20250221T155426Z
LAST-MODIFIED:20250221T155426Z
UID:10000431-1741806000-1741815000@cbbrooklyn.cityofnewyork.us
SUMMARY:Police and Public Safety Committee
DESCRIPTION:Agenda: \n\nReview of SLA wine\, beer\, cider license at New Phoenix Seafood Restaurant\, Inc.\, 912 65 Street\nReview of SLA liquor\, wine\, beer\, cider license at Foul Play Sports Bar LLC\, 7217 8th Avenue\nReview of SLA wine\, beer\, cider application at Café by the Pier\, 35 Bay Ridge Avenue\n\n 
URL:https://cbbrooklyn.cityofnewyork.us/cb10/event/police-and-public-safety-committee-11/
LOCATION:In person at the District Office and livestreamed to YouTube\, 8119 5th Avenue\, Brooklyn\, NY\, 11209\, United States
END:VEVENT
BEGIN:VEVENT
DTSTART;TZID=America/New_York:20250318T190000
DTEND;TZID=America/New_York:20250318T220000
DTSTAMP:20260423T081931
CREATED:20250305T202611Z
LAST-MODIFIED:20250305T202611Z
UID:10000436-1742324400-1742335200@cbbrooklyn.cityofnewyork.us
SUMMARY:Environmental Committee
DESCRIPTION:Agenda: \nDrisana Hughes\, the new Brooklyn Borough Commissioner for NYC Department of Environmental Protection\, will provide a Flooding 101 presentation 
URL:https://cbbrooklyn.cityofnewyork.us/cb10/event/environmental-committee-4/
LOCATION:In person at the District Office and livestreamed to YouTube\, 8119 5th Avenue\, Brooklyn\, NY\, 11209\, United States
END:VEVENT
BEGIN:VEVENT
DTSTART;TZID=America/New_York:20250324T190000
DTEND;TZID=America/New_York:20250324T213000
DTSTAMP:20260423T081931
CREATED:20240820T160636Z
LAST-MODIFIED:20240820T161239Z
UID:10000402-1742842800-1742851800@cbbrooklyn.cityofnewyork.us
SUMMARY:CB10 GENERAL BOARD MEETING
DESCRIPTION:AGENDA \n  \nTBA
URL:https://cbbrooklyn.cityofnewyork.us/cb10/event/cb10-general-board-meeting-15/
LOCATION:Bay Ridge Center\, 15 Bay Ridge Avenue and livestreamed to YouTube
END:VEVENT
BEGIN:VEVENT
DTSTART;TZID=America/New_York:20250327T190000
DTEND;TZID=America/New_York:20250327T210000
DTSTAMP:20260423T081931
CREATED:20250221T155859Z
LAST-MODIFIED:20250221T155859Z
UID:10000432-1743102000-1743109200@cbbrooklyn.cityofnewyork.us
SUMMARY:Joint Communications and Public Relations; Older Adult Issues\, Housing\, Health and Welfare; Police and Public Safety; and Youth Services\, Educations\, Libraries Committees Meeting
DESCRIPTION:Agenda: \nA Joint Communications and Public Relations Committee/Older Adult Issues\, Housing\, Health and Welfare Committee/Police and Public Safety Committee/Youth Services\, Education\, Libraries Committee meeting is scheduled as a hybrid meeting on Thursday\, March 27\, 2025 at 7:00 pm.  Participation may be in-person at the District Office (preferred) or remotely over Zoom. \nRegister to participate at https://us02web.zoom.us/webinar/register/WN_xu-zRT9oSQm86ZzOpvn-qQ \nAt that time\, a representative from NotifyNYC will make a presentation to Board Members regarding the benefits of NotifyNYC\, including information about NYC services and emergency alerts. \n 
URL:https://cbbrooklyn.cityofnewyork.us/cb10/event/joint-communications-and-public-relations-older-adult-issues-housing-health-and-welfare-police-and-public-safety-and-youth-services-educations-libraries-committees-meeting/
LOCATION:In person at the District Office and livestreamed to YouTube\, 8119 5th Avenue\, Brooklyn\, NY\, 11209\, United States
END:VEVENT
END:VCALENDAR