BEGIN:VCALENDAR
VERSION:2.0
PRODID:-//Brooklyn Community Board 10 - ECPv6.15.20//NONSGML v1.0//EN
CALSCALE:GREGORIAN
METHOD:PUBLISH
X-WR-CALNAME:Brooklyn Community Board 10
X-ORIGINAL-URL:https://cbbrooklyn.cityofnewyork.us/cb10
X-WR-CALDESC:Events for Brooklyn Community Board 10
REFRESH-INTERVAL;VALUE=DURATION:PT1H
X-Robots-Tag:noindex
X-PUBLISHED-TTL:PT1H
BEGIN:VTIMEZONE
TZID:America/New_York
BEGIN:DAYLIGHT
TZOFFSETFROM:-0500
TZOFFSETTO:-0400
TZNAME:EDT
DTSTART:20230312T070000
END:DAYLIGHT
BEGIN:STANDARD
TZOFFSETFROM:-0400
TZOFFSETTO:-0500
TZNAME:EST
DTSTART:20231105T060000
END:STANDARD
BEGIN:DAYLIGHT
TZOFFSETFROM:-0500
TZOFFSETTO:-0400
TZNAME:EDT
DTSTART:20240310T070000
END:DAYLIGHT
BEGIN:STANDARD
TZOFFSETFROM:-0400
TZOFFSETTO:-0500
TZNAME:EST
DTSTART:20241103T060000
END:STANDARD
BEGIN:DAYLIGHT
TZOFFSETFROM:-0500
TZOFFSETTO:-0400
TZNAME:EDT
DTSTART:20250309T070000
END:DAYLIGHT
BEGIN:STANDARD
TZOFFSETFROM:-0400
TZOFFSETTO:-0500
TZNAME:EST
DTSTART:20251102T060000
END:STANDARD
END:VTIMEZONE
BEGIN:VEVENT
DTSTART;TZID=America/New_York:20241007T190000
DTEND;TZID=America/New_York:20241007T213000
DTSTAMP:20260424T002507
CREATED:20241001T191804Z
LAST-MODIFIED:20241001T192152Z
UID:10000412-1728327600-1728336600@cbbrooklyn.cityofnewyork.us
SUMMARY:CB10 Executive Committee
DESCRIPTION:Agenda \n\nReview District Needs Statement and ranking of fiscal year 2026 Capital and Expense budget priorities. \nDiscussion regarding mentoring new Board Members for leadership positions by current Committee Chairs\nDiscussion regarding keeping accurate attendance records at Board Meetings
URL:https://cbbrooklyn.cityofnewyork.us/cb10/event/cb10-executive-committee/
LOCATION:In person at the District Office and livestreamed to YouTube\, 8119 5th Avenue\, Brooklyn\, NY\, 11209\, United States
END:VEVENT
BEGIN:VEVENT
DTSTART;TZID=America/New_York:20241009T190000
DTEND;TZID=America/New_York:20241009T213000
DTSTAMP:20260424T002507
CREATED:20241001T192116Z
LAST-MODIFIED:20241008T203739Z
UID:10000413-1728500400-1728509400@cbbrooklyn.cityofnewyork.us
SUMMARY:Traffic and Transportation Committee
DESCRIPTION:Agenda \n\nReview of Open Dining Applications for Cebu Brooklyn\nHospitality Group\, 8801 3rd Avenue\, filed under\nApplication Number 20240726030016: \n-Roadway Café on 3rd Avenue\, 40 ft by 8 ft\, 9 tables\nand 28 seats; \n-Roadway Café on 88th Street\, 40 ft by 8 \nfeet\, 8 tables and 16 seats; \n-Sidewalk Café on 3rd Ave\, 58 ft by 7 ft\, 5 tables \nand 20 seats; \n-Sidewalk Café on 88th Street\, 58 ft by 7 ft\, 4 tables \nand 15 seats\nSafety proposal for Marine Avenue to be implemented shortly\nFY26 District Needs Statement\nTraffic and Transportation pending DOT studies
URL:https://cbbrooklyn.cityofnewyork.us/cb10/event/traffic-and-transportation-committee-6/
LOCATION:Via Zoom and live streamed to YouTube with Hybrid Component for limited in-person participation at the District Office
END:VEVENT
BEGIN:VEVENT
DTSTART;TZID=America/New_York:20241010T190000
DTEND;TZID=America/New_York:20241010T213000
DTSTAMP:20260424T002507
CREATED:20241001T192347Z
LAST-MODIFIED:20241001T192902Z
UID:10000414-1728586800-1728595800@cbbrooklyn.cityofnewyork.us
SUMMARY:Police and Public Safety Committee
DESCRIPTION:Agenda \n\nReview of new wine\, beer\, cider and temporary retail permit at Bay Sushi 6 Inc.\, 29 Bay Ridge Avenue\nReview of new liquor\, wine\, beer\, cider application with karaoke component at 66 KTV Inc.\, 911 66th Street
URL:https://cbbrooklyn.cityofnewyork.us/cb10/event/police-and-public-safety-committee-7/
LOCATION:Via Zoom and live streamed to YouTube with Hybrid Component for limited in-person participation at the District Office
END:VEVENT
BEGIN:VEVENT
DTSTART;TZID=America/New_York:20241021T190000
DTEND;TZID=America/New_York:20241021T213000
DTSTAMP:20260424T002507
CREATED:20240820T154452Z
LAST-MODIFIED:20241001T193546Z
UID:10000397-1729537200-1729546200@cbbrooklyn.cityofnewyork.us
SUMMARY:CB10 GENERAL BOARD MEETING
DESCRIPTION:AGENDA \nPublic Hearings: \nCapital & Expense Budget Priorities for Fiscal Year 2026                                                                     \nNew wine\, beer\, cider and temporary retail permit at Bay Sushi 6 Inc.\, 29 Bay Ridge Avenue                  New liquor\, wine\, beer\, cider application with karaoke component at 66 KTV Inc.\, 911 66th St.     \nReports from Executive Committee; Communications and Public Relations Committee; Senior Issues\, Housing\, Health and Welfare Committee; Environmental Committee; and Traffic and Transportation Committee    
URL:https://cbbrooklyn.cityofnewyork.us/cb10/event/cb10-general-board-meeting-10/
LOCATION:Bay Ridge Center\, 15 Bay Ridge Avenue and livestreamed to YouTube
END:VEVENT
BEGIN:VEVENT
DTSTART;TZID=America/New_York:20241023T190000
DTEND;TZID=America/New_York:20241023T213000
DTSTAMP:20260424T002507
CREATED:20241001T192652Z
LAST-MODIFIED:20241001T192652Z
UID:10000415-1729710000-1729719000@cbbrooklyn.cityofnewyork.us
SUMMARY:Parks Committee
DESCRIPTION:Agenda \nA Representative from Dept. of Parks will give a presentation regarding major pathway upgrades to two highlighted location areas: \n\n Starting along Leif Ericson Park from Erik Place west to 2nd Avenue\n Then along the Shore Road Promenade/4th Ave entrance\, which includes work from the Veteran’s    Memorial Pier all the way down to underneath the Verrazano Bridge\n\n 
URL:https://cbbrooklyn.cityofnewyork.us/cb10/event/parks-committee-3/
LOCATION:Via Zoom and live streamed to YouTube with Hybrid Component for limited in-person participation at the District Office
END:VEVENT
BEGIN:VEVENT
DTSTART;TZID=America/New_York:20241030T190000
DTEND;TZID=America/New_York:20241030T220000
DTSTAMP:20260424T002507
CREATED:20241021T182110Z
LAST-MODIFIED:20241021T182110Z
UID:10000416-1730314800-1730325600@cbbrooklyn.cityofnewyork.us
SUMMARY:Traffic and Transportation Committee
DESCRIPTION:Agenda: \nA representative from MTA will give an update on the 95th Street ADA R-Line elevator construction.  Also\, a representative from Transportation Alternatives will give an overview of online data that is available and how it can be utilized.
URL:https://cbbrooklyn.cityofnewyork.us/cb10/event/traffic-and-transportation-committee-7/
LOCATION:In person at the District Office and livestreamed to YouTube\, 8119 5th Avenue\, Brooklyn\, NY\, 11209\, United States
END:VEVENT
END:VCALENDAR