BEGIN:VCALENDAR
VERSION:2.0
PRODID:-//Brooklyn Community Board 10 - ECPv6.15.20//NONSGML v1.0//EN
CALSCALE:GREGORIAN
METHOD:PUBLISH
X-WR-CALNAME:Brooklyn Community Board 10
X-ORIGINAL-URL:https://cbbrooklyn.cityofnewyork.us/cb10
X-WR-CALDESC:Events for Brooklyn Community Board 10
REFRESH-INTERVAL;VALUE=DURATION:PT1H
X-Robots-Tag:noindex
X-PUBLISHED-TTL:PT1H
BEGIN:VTIMEZONE
TZID:America/New_York
BEGIN:DAYLIGHT
TZOFFSETFROM:-0500
TZOFFSETTO:-0400
TZNAME:EDT
DTSTART:20230312T070000
END:DAYLIGHT
BEGIN:STANDARD
TZOFFSETFROM:-0400
TZOFFSETTO:-0500
TZNAME:EST
DTSTART:20231105T060000
END:STANDARD
BEGIN:DAYLIGHT
TZOFFSETFROM:-0500
TZOFFSETTO:-0400
TZNAME:EDT
DTSTART:20240310T070000
END:DAYLIGHT
BEGIN:STANDARD
TZOFFSETFROM:-0400
TZOFFSETTO:-0500
TZNAME:EST
DTSTART:20241103T060000
END:STANDARD
BEGIN:DAYLIGHT
TZOFFSETFROM:-0500
TZOFFSETTO:-0400
TZNAME:EDT
DTSTART:20250309T070000
END:DAYLIGHT
BEGIN:STANDARD
TZOFFSETFROM:-0400
TZOFFSETTO:-0500
TZNAME:EST
DTSTART:20251102T060000
END:STANDARD
END:VTIMEZONE
BEGIN:VEVENT
DTSTART;TZID=America/New_York:20240904T190000
DTEND;TZID=America/New_York:20240904T213000
DTSTAMP:20260422T191908
CREATED:20240820T163201Z
LAST-MODIFIED:20240820T163201Z
UID:10000406-1725476400-1725485400@cbbrooklyn.cityofnewyork.us
SUMMARY:CB10 ZONING AND LAND USE COMMITTEE MEETING
DESCRIPTION:Agenda \n\nAn application under consideration at the New York State Board for Historic Preservation for Louise Terrace/Colonial Road Historic District to be listed in the National Register of Historic Places.  Full information about the application can be found at https://files.constantcontact.com/553c7f71701/1c57a09b-e49b-4a6f-b14c-dd83afea56b9.pdf?rdr=true\nCommunity Board 10 Summer Intern Report – review of Bay Ridge Historic Resources Reconnaissance Report and discussion of formulating future district priorities
URL:https://cbbrooklyn.cityofnewyork.us/cb10/event/cb10-zoning-and-land-use-committee-meeting/
LOCATION:In person at the District Office and livestreamed to YouTube\, 8119 5th Avenue\, Brooklyn\, NY\, 11209\, United States
END:VEVENT
BEGIN:VEVENT
DTSTART;TZID=America/New_York:20240909T173000
DTEND;TZID=America/New_York:20240909T203000
DTSTAMP:20260422T191908
CREATED:20240905T181510Z
LAST-MODIFIED:20240906T135821Z
UID:10000410-1725903000-1725913800@cbbrooklyn.cityofnewyork.us
SUMMARY:CB10 PARKS COMMITTEE MEETING
DESCRIPTION:AGENDA \n\nA presentation regarding the status of Parks Capital Projects within Community District 10 will be given by a Department of Parks representative.
URL:https://cbbrooklyn.cityofnewyork.us/cb10/event/cb10-parks-committee-meeting/
LOCATION:In person at the District Office and livestreamed to YouTube\, 8119 5th Avenue\, Brooklyn\, NY\, 11209\, United States
END:VEVENT
BEGIN:VEVENT
DTSTART;TZID=America/New_York:20240910T190000
DTEND;TZID=America/New_York:20240910T213000
DTSTAMP:20260422T191908
CREATED:20240820T163352Z
LAST-MODIFIED:20240820T163352Z
UID:10000407-1725994800-1726003800@cbbrooklyn.cityofnewyork.us
SUMMARY:CB10 TRAFFIC AND TRANSPORTATION COMMITTEE MEETING
DESCRIPTION:AGENDA \n\nContinued review of Application submitted by St. Philip’s Episcopal Church to co-name the southwest corner of 11th Avenue at 80th Street as “St. Philip’s Square”\nReview of Dining Out NYC Sidewalk Café Application for Positano\, 10018 4th Avenue\, application number 20240709030005\, 18 tables and 36 seats\nReview of Dining Out NYC Roadway Café Application for Positano\, 10018 4th Avenue\, application number 20240709030006\, for a 23.42 feet long and 8 feet wide roadway dining shed on 101 Street with 9 tables and 18 seats AND a 40 feet long and 8 feet wide roadway dining shed with 16 tables and 32 seats\nReview of Dining Out NYC Roadway Café Application for Campania Coal Fired Pizza\, 9824 4th Avenue\, application number 20240716030007\, for a 35 feet long and 8 feet wide roadway dining shed on 99th Street with 14 tables and 28 seats
URL:https://cbbrooklyn.cityofnewyork.us/cb10/event/cb10-traffic-and-transportation-committee-meeting/
LOCATION:In person at the District Office and livestreamed to YouTube\, 8119 5th Avenue\, Brooklyn\, NY\, 11209\, United States
END:VEVENT
BEGIN:VEVENT
DTSTART;TZID=America/New_York:20240916T190000
DTEND;TZID=America/New_York:20240916T213000
DTSTAMP:20260422T191908
CREATED:20240820T154326Z
LAST-MODIFIED:20240913T185812Z
UID:10000396-1726513200-1726522200@cbbrooklyn.cityofnewyork.us
SUMMARY:CB10 General Board Meeting
DESCRIPTION:AGENDA \nZoning and Land Use – application for NYS Board for Historic Preservation of Louise Terrace/Colonial Road Historic District; Update on Bay Ridge Historic Resources Reconnaissance Report and discusion of future district landmark priorities \nTraffic and Transportation – Continued review of St. Philip’s Episcopal Church request to co-name the southwest corner 11th Avenue and 80th Street as “St. Philip’s Square;” Review of Outdoor dining applications at Positano\, 10018 4th Avenue – roadway applications for 4th Avenue and for 101st Street and sidewalk cafe on 4th Avenue; Review of Outdoor dining application at Campania for a roadway dining shed on 99th Street \nParks – Update on Capital Parks Projects within Community District 10 \nEnvironmental – Update on committee tour of Owls Head Waste Water Resource Recovery Facility
URL:https://cbbrooklyn.cityofnewyork.us/cb10/event/cb10-general-board-meeting-8/
LOCATION:In Person at Knights of Columbus\, 1305 86th Street and Livestreamed to YouTube\, 1305 86th Street\, Brooklyn\, NY\, 11228\, United States
END:VEVENT
BEGIN:VEVENT
DTSTART;TZID=America/New_York:20240923T190000
DTEND;TZID=America/New_York:20240923T213000
DTSTAMP:20260422T191908
CREATED:20240918T154502Z
LAST-MODIFIED:20240918T154502Z
UID:10000411-1727118000-1727127000@cbbrooklyn.cityofnewyork.us
SUMMARY:Senior Issues\, Housing\, Health and Welfare Committee
DESCRIPTION:Agenda: \nMeghan Shineman\, Senior Director\, Research and Development from NYC Aging will present on the Service Needs Assessment Survey and Charise Lawrence\, Brooklyn Government Affairs Officer for NYC Aging will speak about services available for older adults and Annual Plan Summary.
URL:https://cbbrooklyn.cityofnewyork.us/cb10/event/senior-issues-housing-health-and-welfare-committee-3/
LOCATION:In person at the District Office and livestreamed to YouTube\, 8119 5th Avenue\, Brooklyn\, NY\, 11209\, United States
END:VEVENT
BEGIN:VEVENT
DTSTART;TZID=America/New_York:20240925T190000
DTEND;TZID=America/New_York:20240925T210000
DTSTAMP:20260422T191908
CREATED:20240828T173304Z
LAST-MODIFIED:20240828T173304Z
UID:10000408-1727290800-1727298000@cbbrooklyn.cityofnewyork.us
SUMMARY:Communications and Public Relations Committee
DESCRIPTION:Agenda: \n\nCommittee will review a draft of the updated Welcome to CB10 Guide
URL:https://cbbrooklyn.cityofnewyork.us/cb10/event/communications-and-public-relations-committee-2/
LOCATION:Via Zoom and live streamed to YouTube with Hybrid Component for limited in-person participation at the District Office
END:VEVENT
BEGIN:VEVENT
DTSTART;TZID=America/New_York:20240926T180000
DTEND;TZID=America/New_York:20240926T213000
DTSTAMP:20260422T191908
CREATED:20240828T173704Z
LAST-MODIFIED:20240828T173704Z
UID:10000409-1727373600-1727386200@cbbrooklyn.cityofnewyork.us
SUMMARY:Environmental Committee
DESCRIPTION:Agenda: \nThurs. Sept 26\, 2024; – Hybrid meeting at District Office beginning at 6:00 pm with DSNY Bin Info Session\, then continuing over Zoom \nEnvironmental Committee \n\nJoin DSNY Bin info session Thursday\, September 26 at 6:00 PM\n\nThere are options for the DSNY Bin Info session if you cannot attend on 9/26 at 6 pm as follows.  Pre Registration for Info Sessions is required. \n\nThursday\, August 29 at 2:00 PM\nThursday\, September 5 at 6:00 PM\nThursday\, September 12 at 4:00 PM\nThursday\, September 19 at 4:00 PM\nThursday\, September 26 at 6:00 PM\nMeeting continues at 7:00 pm with discussion of residential bin program in person at District Office or join over Zoom. Register at  https://bit.ly/ENV92624\n\n 
URL:https://cbbrooklyn.cityofnewyork.us/cb10/event/environmental-committee-2/
LOCATION:Via Zoom and live streamed to YouTube with Hybrid Component for limited in-person participation at the District Office
END:VEVENT
END:VCALENDAR