BEGIN:VCALENDAR
VERSION:2.0
PRODID:-//Brooklyn Community Board 10 - ECPv6.15.20//NONSGML v1.0//EN
CALSCALE:GREGORIAN
METHOD:PUBLISH
X-ORIGINAL-URL:https://cbbrooklyn.cityofnewyork.us/cb10
X-WR-CALDESC:Events for Brooklyn Community Board 10
REFRESH-INTERVAL;VALUE=DURATION:PT1H
X-Robots-Tag:noindex
X-PUBLISHED-TTL:PT1H
BEGIN:VTIMEZONE
TZID:America/New_York
BEGIN:DAYLIGHT
TZOFFSETFROM:-0500
TZOFFSETTO:-0400
TZNAME:EDT
DTSTART:20230312T070000
END:DAYLIGHT
BEGIN:STANDARD
TZOFFSETFROM:-0400
TZOFFSETTO:-0500
TZNAME:EST
DTSTART:20231105T060000
END:STANDARD
BEGIN:DAYLIGHT
TZOFFSETFROM:-0500
TZOFFSETTO:-0400
TZNAME:EDT
DTSTART:20240310T070000
END:DAYLIGHT
BEGIN:STANDARD
TZOFFSETFROM:-0400
TZOFFSETTO:-0500
TZNAME:EST
DTSTART:20241103T060000
END:STANDARD
BEGIN:DAYLIGHT
TZOFFSETFROM:-0500
TZOFFSETTO:-0400
TZNAME:EDT
DTSTART:20250309T070000
END:DAYLIGHT
BEGIN:STANDARD
TZOFFSETFROM:-0400
TZOFFSETTO:-0500
TZNAME:EST
DTSTART:20251102T060000
END:STANDARD
END:VTIMEZONE
BEGIN:VEVENT
DTSTART;TZID=America/New_York:20240502T190000
DTEND;TZID=America/New_York:20240502T220000
DTSTAMP:20260423T022441
CREATED:20240416T160001Z
LAST-MODIFIED:20240416T160109Z
UID:10000380-1714676400-1714687200@cbbrooklyn.cityofnewyork.us
SUMMARY:Zoning and Land Use Committee
DESCRIPTION:May 2\, 2024; 7:00 pm – Hybrid meeting in person at the District Office or join over Zoom  \nregister at: https://bit.ly/3JyjA2N \nZoning and Land Use Committee \n\nReview of a private rezoning application for 250 86 Street
URL:https://cbbrooklyn.cityofnewyork.us/cb10/event/zoning-and-land-use-committee-5/
LOCATION:Via Zoom and live streamed to YouTube with Hybrid Component for limited in-person participation at the District Office
END:VEVENT
BEGIN:VEVENT
DTSTART;TZID=America/New_York:20240508T190000
DTEND;TZID=America/New_York:20240508T213000
DTSTAMP:20260423T022441
CREATED:20240416T160316Z
LAST-MODIFIED:20240416T160316Z
UID:10000381-1715194800-1715203800@cbbrooklyn.cityofnewyork.us
SUMMARY:Communications and Public Relations Committee
DESCRIPTION:May 8\, 2024; 7:00 pm – Hybrid meeting in person at the District Office or join over Zoom  \nregister at:  https://bit.ly/COMM5824 \nCommunications and Public Relations Committee \n\nCommittee will begin work on a Comprehensive Board Member Guide
URL:https://cbbrooklyn.cityofnewyork.us/cb10/event/communications-and-public-relations-committee/
LOCATION:Via Zoom and live streamed to YouTube with Hybrid Component for limited in-person participation at the District Office
END:VEVENT
BEGIN:VEVENT
DTSTART;TZID=America/New_York:20240509T190000
DTEND;TZID=America/New_York:20240509T220000
DTSTAMP:20260423T022441
CREATED:20240416T160540Z
LAST-MODIFIED:20240501T153642Z
UID:10000382-1715281200-1715292000@cbbrooklyn.cityofnewyork.us
SUMMARY:Traffic and Transportation Committee
DESCRIPTION:May 9\, 2024; 7:00 pm – Hybrid meeting in person at the District Office or join over Zoom \nRegister at:  https://bit.ly/TT050924 \nTraffic and Transportation Committee \n\n\n\nReview of Third Avenue Summer Stroll Application\, Event ID 772385\, for four dates\, from 4:00 pm (set up) to 10:00 pm:\n\n\n7/19 and 8/2 along Third Avenue between 82nd Street and Marine Avenue\n7/26 and 8/9 along Third Avenue between 82nd Street and 68th Street\n\n\nReview of 5th Avenue BID Open Streets Applications:\n\n\n9/14 End of Summer Multi-Block Party\, 5th Avenue between 68 Street and 81st Street\, 2:00 pm – 9:00 pm\, Event ID 778676\n10/26 Halloween Fest\, 5th Avenue between 72nd Street and 85th Street\, 3:00 pm – 9:00 pm\, Event ID 778679\n\n\nDOT presentation regarding 7th Avenue and Poly Place Safety Improvement Project\nCommittee creation of a standard review process for new Open Dining applications
URL:https://cbbrooklyn.cityofnewyork.us/cb10/event/traffic-and-transportation-committee-5/
LOCATION:Via Zoom and live streamed to YouTube with Hybrid Component for limited in-person participation at the District Office
END:VEVENT
BEGIN:VEVENT
DTSTART;TZID=America/New_York:20240513T190000
DTEND;TZID=America/New_York:20240513T220000
DTSTAMP:20260423T022441
CREATED:20240416T161201Z
LAST-MODIFIED:20240416T161214Z
UID:10000383-1715626800-1715637600@cbbrooklyn.cityofnewyork.us
SUMMARY:Police and Public Safety Committee
DESCRIPTION:May 13\, 2024; 7:00 pm – Hybrid meeting in person at the District Office or join over Zoom  \nregister at:  https://bit.ly/PPS51324 \nPolice and Public Safety Committee \n\nContinued review of SLA liquor\, wine\, beer\, cider license at Parceros Restaurant USA Corp.\, 6824 3rd Avenue\nReview of SLA liquor\, wine\, beer\, cider license at Los Cantaros Mexican Restaurant Corp.\, 8612 4th Avenue\nReview of SLA wine\, beer\, cider license at AM Sushi Restaurant Inc.\, 7812 3rd Avenue
URL:https://cbbrooklyn.cityofnewyork.us/cb10/event/police-and-public-safety-committee-6/
LOCATION:Via Zoom and live streamed to YouTube with Hybrid Component for limited in-person participation at the District Office
END:VEVENT
BEGIN:VEVENT
DTSTART;TZID=America/New_York:20240520T190000
DTEND;TZID=America/New_York:20240520T213000
DTSTAMP:20260423T022441
CREATED:20230915T164211Z
LAST-MODIFIED:20240517T145351Z
UID:10000353-1716231600-1716240600@cbbrooklyn.cityofnewyork.us
SUMMARY:CB10 General Board Meeting
DESCRIPTION:PLEASE NOTE THE CHANGE OF VENUE FOR THIS MEETING. MEETING WILL NOW BE HELD AT THE KNIGHTS OF COLUMBUS ON 86TH STREET AND 13TH AVENUE. \nAgenda \nPublic Hearings for the following matters: \n\nPrivate rezoning application for 250 86th Street; SLA liquor license applications at Parceros Restaurant USA Corp.\, 6824 3rd Avenue\, Los Cantaros Mexican Restaurant Inc.\, 7812 3rd Avenue\, AM Sushi Restaurant Inc.\, 7812 3rd Avenue\n\nReview of Third Avenue Summer Stroll Applications; Review of 5th Avenue BID Open Streets applications; Update on DOT Presentation of Safety Improvement Project for 7th Avenue and Poly Place; Update on creation of a standard review process for new Open Dining Applications; Review of Open Dining application for Caffe Cafe\, 8401 3rd Avenue \nUpdate on City of Yes for Housing Opportunity ongoing Committee review \nUpdates on creation of a Comprehensive Board Member Guide and on CB 10 Fiscal Year 2024 and 2025 Budgets \nNominations for Officer Positions for FY 25 \n 
URL:https://cbbrooklyn.cityofnewyork.us/cb10/event/cb10-general-board-meeting-7/
LOCATION:In Person at Knights of Columbus\, 1305 86th Street and Livestreamed to YouTube\, 1305 86th Street\, Brooklyn\, NY\, 11228\, United States
END:VEVENT
END:VCALENDAR