BEGIN:VCALENDAR
VERSION:2.0
PRODID:-//Brooklyn Community Board 10 - ECPv6.15.20//NONSGML v1.0//EN
CALSCALE:GREGORIAN
METHOD:PUBLISH
X-ORIGINAL-URL:https://cbbrooklyn.cityofnewyork.us/cb10
X-WR-CALDESC:Events for Brooklyn Community Board 10
REFRESH-INTERVAL;VALUE=DURATION:PT1H
X-Robots-Tag:noindex
X-PUBLISHED-TTL:PT1H
BEGIN:VTIMEZONE
TZID:America/New_York
BEGIN:DAYLIGHT
TZOFFSETFROM:-0500
TZOFFSETTO:-0400
TZNAME:EDT
DTSTART:20230312T070000
END:DAYLIGHT
BEGIN:STANDARD
TZOFFSETFROM:-0400
TZOFFSETTO:-0500
TZNAME:EST
DTSTART:20231105T060000
END:STANDARD
BEGIN:DAYLIGHT
TZOFFSETFROM:-0500
TZOFFSETTO:-0400
TZNAME:EDT
DTSTART:20240310T070000
END:DAYLIGHT
BEGIN:STANDARD
TZOFFSETFROM:-0400
TZOFFSETTO:-0500
TZNAME:EST
DTSTART:20241103T060000
END:STANDARD
BEGIN:DAYLIGHT
TZOFFSETFROM:-0500
TZOFFSETTO:-0400
TZNAME:EDT
DTSTART:20250309T070000
END:DAYLIGHT
BEGIN:STANDARD
TZOFFSETFROM:-0400
TZOFFSETTO:-0500
TZNAME:EST
DTSTART:20251102T060000
END:STANDARD
END:VTIMEZONE
BEGIN:VEVENT
DTSTART;TZID=America/New_York:20240402T184500
DTEND;TZID=America/New_York:20240402T210000
DTSTAMP:20260423T225144
CREATED:20240320T162637Z
LAST-MODIFIED:20240320T164122Z
UID:10000375-1712083500-1712091600@cbbrooklyn.cityofnewyork.us
SUMMARY:Traffic and Transportation Committee Hybrid Meeting
DESCRIPTION:Hybrid meeting in person at the District Office or join over Zoom  \nregister at: https://bit.ly/TT040224 \n\nBeginning 6:45 pm – Review of SAPO application number 763274 submitted by PS 185 to hold a cultural fair on Ridge Blvd. between 86th and 88th Streets on May 17\, 2024\, from 1 – 9 pm\nAn MTA Representative will give an update presentation regarding progress on the IBX proposal
URL:https://cbbrooklyn.cityofnewyork.us/cb10/event/traffic-and-transportation-committee-hybrid-meeting/
LOCATION:Via Zoom and live streamed to YouTube with Hybrid Component for limited in-person participation at the District Office
END:VEVENT
BEGIN:VEVENT
DTSTART;TZID=America/New_York:20240403T190000
DTEND;TZID=America/New_York:20240403T210000
DTSTAMP:20260423T225144
CREATED:20240320T163357Z
LAST-MODIFIED:20240320T163357Z
UID:10000376-1712170800-1712178000@cbbrooklyn.cityofnewyork.us
SUMMARY:Environmental Committee
DESCRIPTION:Hybrid meeting in person at the District Office or join over Zoom  \nregister at:  https://bit.ly/ENV4324 \n\nPresentation regarding Bluepoint Wind\, an offshore wind developer which plans to build an offshore wind farm within its ocean lease area located 38 nautical miles (nm) off the coast of New York and 53 nm off the coast of New Jersey
URL:https://cbbrooklyn.cityofnewyork.us/cb10/event/environmental-committee/
LOCATION:Via Zoom and live streamed to YouTube with Hybrid Component for limited in-person participation at the District Office
END:VEVENT
BEGIN:VEVENT
DTSTART;TZID=America/New_York:20240408T190000
DTEND;TZID=America/New_York:20240408T213000
DTSTAMP:20260423T225144
CREATED:20240327T153927Z
LAST-MODIFIED:20240327T153927Z
UID:10000379-1712602800-1712611800@cbbrooklyn.cityofnewyork.us
SUMMARY:Zoning and Land Use Committee
DESCRIPTION:April 8\, 2024; 7:00 pm – Hybrid meeting in person at the District Office or join over Zoom  \nregister at: https://bitly/ZALUC4824 \n\nRepresentatives from Dept. of City Planning will give a brief\, high-level overview of the City of Yes for Housing Opportunity proposal prior to the referral of the text amendment with an opportunity to ask questions
URL:https://cbbrooklyn.cityofnewyork.us/cb10/event/zoning-and-land-use-committee-4/
LOCATION:Via Zoom and live streamed to YouTube with Hybrid Component for limited in-person participation at the District Office
END:VEVENT
BEGIN:VEVENT
DTSTART;TZID=America/New_York:20240411T190000
DTEND;TZID=America/New_York:20240411T220000
DTSTAMP:20260423T225144
CREATED:20240327T153613Z
LAST-MODIFIED:20240327T153623Z
UID:10000378-1712862000-1712872800@cbbrooklyn.cityofnewyork.us
SUMMARY:Police and Public Safety Committee Meeting
DESCRIPTION:April 11\, 2024; 7:00 pm – Hybrid meeting in person at the District Office or join over Zoom  \nregister at: https://bit.ly/PPS41124. \n\nContinued review of SLA liquor\, wine\, beer\, cider license at Parceros Restaurant USA Corp.\, 6824 3rd Avenue\nReview of SLA wine\, beer\, cider license at Omakase Sushi 93 Inc.\, 9208 3rd Avenue\nReview of SLA liquor\, wine\, beer\, cider license at Los Cantaros Mexican Restaurant Corp.\, 8612 4th Avenue
URL:https://cbbrooklyn.cityofnewyork.us/cb10/event/police-and-public-safety-committee-meeting-2/
LOCATION:Via Zoom and live streamed to YouTube with Hybrid Component for limited in-person participation at the District Office
END:VEVENT
BEGIN:VEVENT
DTSTART;TZID=America/New_York:20240415T190000
DTEND;TZID=America/New_York:20240415T213000
DTSTAMP:20260423T225144
CREATED:20230915T164112Z
LAST-MODIFIED:20240327T154936Z
UID:10000352-1713207600-1713216600@cbbrooklyn.cityofnewyork.us
SUMMARY:CB10 General Board Meeting
DESCRIPTION:Agenda: \nPublic Hearings \nContinued review of SLA liquor\, wine\, beer\, cider license at Parceros Restaurant USA Corp.\, 6824 3rd Avenue;   Review of SLA wine\, beer\, cider license at Omakase Sushi 93 Inc.\, 9208 3rd Avenue;  Review of SLA liquor\, wine\, beer\, cider license at Los Cantaros Mexican Restaurant Corp.\, 8612 4th Avenue \nReview of SAPO application submitted by PS 185 to hold a cultural fair on Ridge Blvd. between 86th and 88th Streets on 5/17/2024 between 1 and 9 pm; Update on MTA presentation regarding progress on IBX proposal   \nUpdate on City of Yes for Housing Opportunity briefing given by DCP Representatives prior to the referral of the text amendment \n Update on presentation given by Bluepoint Wind\, an offshore wind developer which plans to build an offshore wind farm within its ocean lease area located 38 nautical miles (nm) off the coast of New York and 53 nm off the coast of New Jersey \n 
URL:https://cbbrooklyn.cityofnewyork.us/cb10/event/cb10-general-board-meeting-6/
LOCATION:In Person at Fort Hamilton Senior Center\, 9941 Ft. Hamilton Parkway and livestreamed to YouTube\, 9941 Ft Hamilton Parkway\, Brooklyn\, 11209\, United States
END:VEVENT
END:VCALENDAR