BEGIN:VCALENDAR
VERSION:2.0
PRODID:-//Brooklyn Community Board 10 - ECPv6.15.20//NONSGML v1.0//EN
CALSCALE:GREGORIAN
METHOD:PUBLISH
X-ORIGINAL-URL:https://cbbrooklyn.cityofnewyork.us/cb10
X-WR-CALDESC:Events for Brooklyn Community Board 10
REFRESH-INTERVAL;VALUE=DURATION:PT1H
X-Robots-Tag:noindex
X-PUBLISHED-TTL:PT1H
BEGIN:VTIMEZONE
TZID:America/New_York
BEGIN:DAYLIGHT
TZOFFSETFROM:-0500
TZOFFSETTO:-0400
TZNAME:EDT
DTSTART:20220313T070000
END:DAYLIGHT
BEGIN:STANDARD
TZOFFSETFROM:-0400
TZOFFSETTO:-0500
TZNAME:EST
DTSTART:20221106T060000
END:STANDARD
BEGIN:DAYLIGHT
TZOFFSETFROM:-0500
TZOFFSETTO:-0400
TZNAME:EDT
DTSTART:20230312T070000
END:DAYLIGHT
BEGIN:STANDARD
TZOFFSETFROM:-0400
TZOFFSETTO:-0500
TZNAME:EST
DTSTART:20231105T060000
END:STANDARD
BEGIN:DAYLIGHT
TZOFFSETFROM:-0500
TZOFFSETTO:-0400
TZNAME:EDT
DTSTART:20240310T070000
END:DAYLIGHT
BEGIN:STANDARD
TZOFFSETFROM:-0400
TZOFFSETTO:-0500
TZNAME:EST
DTSTART:20241103T060000
END:STANDARD
END:VTIMEZONE
BEGIN:VEVENT
DTSTART;TZID=America/New_York:20231005T183000
DTEND;TZID=America/New_York:20231005T210000
DTSTAMP:20260421T080842
CREATED:20230925T192918Z
LAST-MODIFIED:20230925T192925Z
UID:10000355-1696530600-1696539600@cbbrooklyn.cityofnewyork.us
SUMMARY:Senior Issues\, Housing\, Health and Welfare Committee
DESCRIPTION:Maimonides Health EMS Staff will provide Naloxone Training for CB 10 Board Members.  The meeting will be livestreamed to YouTube at bit.ly/3HLO5lw
URL:https://cbbrooklyn.cityofnewyork.us/cb10/event/senior-issues-housing-health-and-welfare-committee/
LOCATION:In person at District Office\, 8119 5th Avenue\, 8119 5th Avenue\, Brooklyn\, NY\, 11209\, United States
END:VEVENT
BEGIN:VEVENT
DTSTART;TZID=America/New_York:20231010T190000
DTEND;TZID=America/New_York:20231010T220000
DTSTAMP:20260421T080842
CREATED:20230925T202304Z
LAST-MODIFIED:20230925T202304Z
UID:10000356-1696964400-1696975200@cbbrooklyn.cityofnewyork.us
SUMMARY:Executive Committee
DESCRIPTION:Agenda: \nReview District Needs Statement and ranking of fiscal year 2025 Capital and Expense budget priorities \nThis will be a hybrid meeting.  Participation may be in-person at the District Office or over Zoom.  Committee Members will receive a panelist invitation directly from Zoom for their use if they choose to participate remotely.  All others may register to participate over Zoom at  https://bit.ly/48h2C3V
URL:https://cbbrooklyn.cityofnewyork.us/cb10/event/executive-committee-2/
LOCATION:Via Zoom and live streamed to YouTube with Hybrid Component for limited in-person participation at the District Office
END:VEVENT
BEGIN:VEVENT
DTSTART;TZID=America/New_York:20231011T190000
DTEND;TZID=America/New_York:20231011T203000
DTSTAMP:20260421T080842
CREATED:20230925T202957Z
LAST-MODIFIED:20230928T182144Z
UID:10000357-1697050800-1697056200@cbbrooklyn.cityofnewyork.us
SUMMARY:Police and Public Safety Committee
DESCRIPTION:Hybrid meeting in person at the District Office or join over Zoom \nregister at: https://bit.ly/44Gqpaj \nAgenda: \n\nNew wine\, beer\, cider application and temporary retail permit at Wonder Room Coffee Inc.\, 7904 Third Avenue\nNew liquor\, wine\, beer\, cider application and temporary retail permit at MVSO Restaurant & Bar Corp.\, d/b/a Las Margaritas\, 7206 Third Avenue\n\n 
URL:https://cbbrooklyn.cityofnewyork.us/cb10/event/police-and-public-safety-committee/
LOCATION:Via Zoom and live streamed to YouTube with Hybrid Component for limited in-person participation at the District Office
END:VEVENT
BEGIN:VEVENT
DTSTART;TZID=America/New_York:20231016T190000
DTEND;TZID=America/New_York:20231016T213000
DTSTAMP:20260421T080842
CREATED:20230915T162155Z
LAST-MODIFIED:20230915T162250Z
UID:10000346-1697482800-1697491800@cbbrooklyn.cityofnewyork.us
SUMMARY:CB10 General Board Meeting
DESCRIPTION:Agenda \n  \nTBA
URL:https://cbbrooklyn.cityofnewyork.us/cb10/event/10-general-board-meeting/
LOCATION:In Person at Fort Hamilton Senior Center\, 9941 Ft. Hamilton Parkway and livestreamed to YouTube\, 9941 Ft Hamilton Parkway\, Brooklyn\, 11209\, United States
END:VEVENT
END:VCALENDAR