BEGIN:VCALENDAR
VERSION:2.0
PRODID:-//Brooklyn Community Board 10 - ECPv6.15.20//NONSGML v1.0//EN
CALSCALE:GREGORIAN
METHOD:PUBLISH
X-WR-CALNAME:Brooklyn Community Board 10
X-ORIGINAL-URL:https://cbbrooklyn.cityofnewyork.us/cb10
X-WR-CALDESC:Events for Brooklyn Community Board 10
REFRESH-INTERVAL;VALUE=DURATION:PT1H
X-Robots-Tag:noindex
X-PUBLISHED-TTL:PT1H
BEGIN:VTIMEZONE
TZID:America/New_York
BEGIN:DAYLIGHT
TZOFFSETFROM:-0500
TZOFFSETTO:-0400
TZNAME:EDT
DTSTART:20250309T070000
END:DAYLIGHT
BEGIN:STANDARD
TZOFFSETFROM:-0400
TZOFFSETTO:-0500
TZNAME:EST
DTSTART:20251102T060000
END:STANDARD
BEGIN:DAYLIGHT
TZOFFSETFROM:-0500
TZOFFSETTO:-0400
TZNAME:EDT
DTSTART:20260308T070000
END:DAYLIGHT
BEGIN:STANDARD
TZOFFSETFROM:-0400
TZOFFSETTO:-0500
TZNAME:EST
DTSTART:20261101T060000
END:STANDARD
BEGIN:DAYLIGHT
TZOFFSETFROM:-0500
TZOFFSETTO:-0400
TZNAME:EDT
DTSTART:20270314T070000
END:DAYLIGHT
BEGIN:STANDARD
TZOFFSETFROM:-0400
TZOFFSETTO:-0500
TZNAME:EST
DTSTART:20271107T060000
END:STANDARD
END:VTIMEZONE
BEGIN:VEVENT
DTSTART;TZID=America/New_York:20260302T190000
DTEND;TZID=America/New_York:20260302T220000
DTSTAMP:20260419T104724
CREATED:20260225T203315Z
LAST-MODIFIED:20260225T203315Z
UID:10000495-1772478000-1772488800@cbbrooklyn.cityofnewyork.us
SUMMARY:Zoning and Land Use Committee
DESCRIPTION:Agenda: \n\nContinued work on CB10 Landmarking project\nReview of upcoming DCP applications filed with DCP\nDiscussion regarding future committee topics
URL:https://cbbrooklyn.cityofnewyork.us/cb10/event/zoning-and-land-use-committee-13/
LOCATION:Via Zoom and live streamed to YouTube with Hybrid Component for limited in-person participation at the District Office
END:VEVENT
BEGIN:VEVENT
DTSTART;TZID=America/New_York:20260305T190000
DTEND;TZID=America/New_York:20260305T220000
DTSTAMP:20260419T104725
CREATED:20260225T203732Z
LAST-MODIFIED:20260225T203732Z
UID:10000496-1772737200-1772748000@cbbrooklyn.cityofnewyork.us
SUMMARY:Traffic and Transportation Committee
DESCRIPTION:Agenda: \n\nUpdated Pedestrian Safety report\nPresentation by Rose Uscianowski (Transportation Alternatives) and Dino Hatzis regarding 4th Avenue bike audit\n\n 
URL:https://cbbrooklyn.cityofnewyork.us/cb10/event/traffic-and-transportation-committee-22/
LOCATION:Via Zoom and live streamed to YouTube with Hybrid Component for limited in-person participation at the District Office
END:VEVENT
BEGIN:VEVENT
DTSTART;TZID=America/New_York:20260312T190000
DTEND;TZID=America/New_York:20260312T210000
DTSTAMP:20260419T104725
CREATED:20260306T202031Z
LAST-MODIFIED:20260306T202031Z
UID:10000497-1773342000-1773349200@cbbrooklyn.cityofnewyork.us
SUMMARY:Police and Public Safety Committee
DESCRIPTION:·        New SLA liquor\, wine\, beer\, cider application at Kate Steak Corp.\, 9226 4th Avenue \n·        Presentation by Representatives from CERT (Community Emergency Response Team)
URL:https://cbbrooklyn.cityofnewyork.us/cb10/event/police-and-public-safety-committee-20/
LOCATION:In person at the District Office and livestreamed to YouTube\, 8119 5th Avenue\, Brooklyn\, NY\, 11209\, United States
END:VEVENT
BEGIN:VEVENT
DTSTART;TZID=America/New_York:20260316T190000
DTEND;TZID=America/New_York:20260316T213000
DTSTAMP:20260419T104725
CREATED:20250903T164451Z
LAST-MODIFIED:20260309T143947Z
UID:10000462-1773687600-1773696600@cbbrooklyn.cityofnewyork.us
SUMMARY:Monthly Board Meeting
DESCRIPTION:                                  AGENDA:\n 
URL:https://cbbrooklyn.cityofnewyork.us/cb10/event/monthly-board-meeting-7/
LOCATION:In Person at Knights of Columbus\, 1305 86th Street and Livestreamed to YouTube\, 1305 86th Street\, Brooklyn\, NY\, 11228\, United States
END:VEVENT
BEGIN:VEVENT
DTSTART;TZID=America/New_York:20260413T183000
DTEND;TZID=America/New_York:20260413T220000
DTSTAMP:20260419T104725
CREATED:20260311T171639Z
LAST-MODIFIED:20260311T171639Z
UID:10000498-1776105000-1776117600@cbbrooklyn.cityofnewyork.us
SUMMARY:Traffic and Transportation Committee
DESCRIPTION:Agenda: \n\nUpdate from IBX Representatives regarding Interborough Express project\n\n 
URL:https://cbbrooklyn.cityofnewyork.us/cb10/event/traffic-and-transportation-committee-23/
LOCATION:Via Zoom and live streamed to YouTube with Hybrid Component for limited in-person participation at the District Office
END:VEVENT
BEGIN:VEVENT
DTSTART;TZID=America/New_York:20260415T190000
DTEND;TZID=America/New_York:20260415T213000
DTSTAMP:20260419T104725
CREATED:20260311T171929Z
LAST-MODIFIED:20260311T171929Z
UID:10000499-1776279600-1776288600@cbbrooklyn.cityofnewyork.us
SUMMARY:Zoning and Land Use Committee
DESCRIPTION:Agenda: \n\n\n\nDCP Application filed for 9305 5th Avenue Rezoning\, Project ID: 2025K0284\, seeking a Zoning map amendment and a zoning text amendment in order to facilitate the construction of a new 11-story\, 292 unit mixed-use commercial\, community facility\, and residential building
URL:https://cbbrooklyn.cityofnewyork.us/cb10/event/zoning-and-land-use-committee-14/
LOCATION:In person at the District Office and livestreamed to YouTube\, 8119 5th Avenue\, Brooklyn\, NY\, 11209\, United States
END:VEVENT
BEGIN:VEVENT
DTSTART;TZID=America/New_York:20260420T190000
DTEND;TZID=America/New_York:20260420T213000
DTSTAMP:20260419T104725
CREATED:20250903T164608Z
LAST-MODIFIED:20260415T195037Z
UID:10000463-1776711600-1776720600@cbbrooklyn.cityofnewyork.us
SUMMARY:Monthly Board Meeting
DESCRIPTION:AGENDA:
URL:https://cbbrooklyn.cityofnewyork.us/cb10/event/monthly-board-meeting-8/
LOCATION:In Person at Fort Hamilton Senior Center\, 9941 Ft. Hamilton Parkway and livestreamed to YouTube\, 9941 Ft Hamilton Parkway\, Brooklyn\, 11209\, United States
END:VEVENT
BEGIN:VEVENT
DTSTART;TZID=America/New_York:20260423T190000
DTEND;TZID=America/New_York:20260423T210000
DTSTAMP:20260419T104725
CREATED:20260330T172700Z
LAST-MODIFIED:20260330T172700Z
UID:10000500-1776970800-1776978000@cbbrooklyn.cityofnewyork.us
SUMMARY:Environmental Committee
DESCRIPTION:Agenda: \n· Presentation on behalf of Office of Emergency Management regarding Flood Season preparedness \n· Presentation by 5th Avenue BID regarding new corner bins
URL:https://cbbrooklyn.cityofnewyork.us/cb10/event/environmental-committee-9/
LOCATION:In person at the District Office and livestreamed to YouTube\, 8119 5th Avenue\, Brooklyn\, NY\, 11209\, United States
END:VEVENT
BEGIN:VEVENT
DTSTART;TZID=America/New_York:20260428T190000
DTEND;TZID=America/New_York:20260428T210000
DTSTAMP:20260419T104725
CREATED:20260409T131033Z
LAST-MODIFIED:20260409T182141Z
UID:10000502-1777402800-1777410000@cbbrooklyn.cityofnewyork.us
SUMMARY:Older Adult Issues\, Housing\, Health and Welfare Committee
DESCRIPTION:Agenda: \nProposed service changes to NY Presbyterian Brooklyn Methodist Bay Ridge practice locations \n 
URL:https://cbbrooklyn.cityofnewyork.us/cb10/event/older-adult-issues-housing-health-and-welfare-committee-7/
LOCATION:In person at the District Office and livestreamed to YouTube\, 8119 5th Avenue\, Brooklyn\, NY\, 11209\, United States
END:VEVENT
BEGIN:VEVENT
DTSTART;TZID=America/New_York:20260506T190000
DTEND;TZID=America/New_York:20260506T220000
DTSTAMP:20260419T104725
CREATED:20260416T182506Z
LAST-MODIFIED:20260416T182506Z
UID:10000503-1778094000-1778104800@cbbrooklyn.cityofnewyork.us
SUMMARY:Traffic and Transportation Committee
DESCRIPTION:Agenda: \n•Review of Open Streets Applications submitted to NYC DOT:\n– 3rd Avenue from 82 Street to Marine Avenue\, July 24th and August 7th from 4-10 pm\n– 3rd Avenue from 82 Street to 68 Street\, July 31st and August 14th from 4-10 pm\n•\nReview of Enclosed Sidewalk Café at Tanoreen\, 7523 3rd Avenue\, Application #20260212030001\n•\nReview of Enclosed Sidewalk Café at Lailas\, 8530 3rd Avenue\, Application # 20260122030001\n•\nReview of DOT planned speed reduction locations within CD10\n•\nReview of DOT new School Slow Zones \n 
URL:https://cbbrooklyn.cityofnewyork.us/cb10/event/traffic-and-transportation-committee-24/
LOCATION:Via Zoom and live streamed to YouTube with Hybrid Component for limited in-person participation at the District Office
END:VEVENT
BEGIN:VEVENT
DTSTART;TZID=America/New_York:20260507T190000
DTEND;TZID=America/New_York:20260507T213000
DTSTAMP:20260419T104725
CREATED:20260416T182624Z
LAST-MODIFIED:20260416T182624Z
UID:10000504-1778180400-1778189400@cbbrooklyn.cityofnewyork.us
SUMMARY:Zoning and Land Use Committee
DESCRIPTION:Agenda: \n\n\n\nContinued review of DCP Application filed for 9305 5th Avenue Rezoning\, Project ID: 2025K0284\, seeking a Zoning map amendment and a zoning text amendment in order to facilitate the construction of a new 11-story\, 292 unit mixed-use commercial\, community facility\, and residential building
URL:https://cbbrooklyn.cityofnewyork.us/cb10/event/zoning-and-land-use-committee-15/
LOCATION:In person at the District Office and livestreamed to YouTube\, 8119 5th Avenue\, Brooklyn\, NY\, 11209\, United States
END:VEVENT
BEGIN:VEVENT
DTSTART;TZID=America/New_York:20260512T190000
DTEND;TZID=America/New_York:20260512T210000
DTSTAMP:20260419T104725
CREATED:20260331T134008Z
LAST-MODIFIED:20260416T182809Z
UID:10000501-1778612400-1778619600@cbbrooklyn.cityofnewyork.us
SUMMARY:Police and Public Safety Committee
DESCRIPTION:Agenda: \n•CPR Training by FDNY Representatives (6:30 – 7:30 pm) \n•Committee Review of SLA liquor\, wine\, beer\, cider application at AA66 Club Inc.\, 815 66th Street \n•Committee Review of SLA liquor\, wine\, beer\, cider application at MBEL Restaurant & Bar Corp.\, 7215 3rd Avenue \n  \n 
URL:https://cbbrooklyn.cityofnewyork.us/cb10/event/police-and-public-safety-committee-21/
LOCATION:In person at the District Office and livestreamed to YouTube\, 8119 5th Avenue\, Brooklyn\, NY\, 11209\, United States
END:VEVENT
BEGIN:VEVENT
DTSTART;TZID=America/New_York:20260518T190000
DTEND;TZID=America/New_York:20260518T213000
DTSTAMP:20260419T104725
CREATED:20250903T164702Z
LAST-MODIFIED:20250903T170009Z
UID:10000464-1779130800-1779139800@cbbrooklyn.cityofnewyork.us
SUMMARY:Monthly Board Meeting
DESCRIPTION:AGENDA: \n  \nTBA
URL:https://cbbrooklyn.cityofnewyork.us/cb10/event/monthly-board-meeting-9/
LOCATION:Bay Ridge Center\, 15 Bay Ridge Avenue and livestreamed to YouTube
END:VEVENT
BEGIN:VEVENT
DTSTART;TZID=America/New_York:20260615T190000
DTEND;TZID=America/New_York:20260615T213000
DTSTAMP:20260419T104725
CREATED:20250903T164812Z
LAST-MODIFIED:20250903T165048Z
UID:10000465-1781550000-1781559000@cbbrooklyn.cityofnewyork.us
SUMMARY:Monthly Board Meeting
DESCRIPTION:AGENDA: \n  \nTBA
URL:https://cbbrooklyn.cityofnewyork.us/cb10/event/monthly-board-meeting-10/
LOCATION:In Person at Knights of Columbus\, 1305 86th Street and Livestreamed to YouTube\, 1305 86th Street\, Brooklyn\, NY\, 11228\, United States
END:VEVENT
END:VCALENDAR