BEGIN:VCALENDAR
VERSION:2.0
PRODID:-//Brooklyn Community Board 10 - ECPv6.15.20//NONSGML v1.0//EN
CALSCALE:GREGORIAN
METHOD:PUBLISH
X-WR-CALNAME:Brooklyn Community Board 10
X-ORIGINAL-URL:https://cbbrooklyn.cityofnewyork.us/cb10
X-WR-CALDESC:Events for Brooklyn Community Board 10
REFRESH-INTERVAL;VALUE=DURATION:PT1H
X-Robots-Tag:noindex
X-PUBLISHED-TTL:PT1H
BEGIN:VTIMEZONE
TZID:America/New_York
BEGIN:DAYLIGHT
TZOFFSETFROM:-0500
TZOFFSETTO:-0400
TZNAME:EDT
DTSTART:20250309T070000
END:DAYLIGHT
BEGIN:STANDARD
TZOFFSETFROM:-0400
TZOFFSETTO:-0500
TZNAME:EST
DTSTART:20251102T060000
END:STANDARD
BEGIN:DAYLIGHT
TZOFFSETFROM:-0500
TZOFFSETTO:-0400
TZNAME:EDT
DTSTART:20260308T070000
END:DAYLIGHT
BEGIN:STANDARD
TZOFFSETFROM:-0400
TZOFFSETTO:-0500
TZNAME:EST
DTSTART:20261101T060000
END:STANDARD
BEGIN:DAYLIGHT
TZOFFSETFROM:-0500
TZOFFSETTO:-0400
TZNAME:EDT
DTSTART:20270314T070000
END:DAYLIGHT
BEGIN:STANDARD
TZOFFSETFROM:-0400
TZOFFSETTO:-0500
TZNAME:EST
DTSTART:20271107T060000
END:STANDARD
END:VTIMEZONE
BEGIN:VEVENT
DTSTART;TZID=America/New_York:20260413T183000
DTEND;TZID=America/New_York:20260413T220000
DTSTAMP:20260424T075949
CREATED:20260311T171639Z
LAST-MODIFIED:20260311T171639Z
UID:10000498-1776105000-1776117600@cbbrooklyn.cityofnewyork.us
SUMMARY:Traffic and Transportation Committee
DESCRIPTION:Agenda: \n\nUpdate from IBX Representatives regarding Interborough Express project\n\n 
URL:https://cbbrooklyn.cityofnewyork.us/cb10/event/traffic-and-transportation-committee-23/
LOCATION:Via Zoom and live streamed to YouTube with Hybrid Component for limited in-person participation at the District Office
END:VEVENT
END:VCALENDAR