BEGIN:VCALENDAR
VERSION:2.0
PRODID:-//Brooklyn Community Board 10 - ECPv6.15.20//NONSGML v1.0//EN
CALSCALE:GREGORIAN
METHOD:PUBLISH
X-ORIGINAL-URL:https://cbbrooklyn.cityofnewyork.us/cb10
X-WR-CALDESC:Events for Brooklyn Community Board 10
REFRESH-INTERVAL;VALUE=DURATION:PT1H
X-Robots-Tag:noindex
X-PUBLISHED-TTL:PT1H
BEGIN:VTIMEZONE
TZID:America/New_York
BEGIN:DAYLIGHT
TZOFFSETFROM:-0500
TZOFFSETTO:-0400
TZNAME:EDT
DTSTART:20240310T070000
END:DAYLIGHT
BEGIN:STANDARD
TZOFFSETFROM:-0400
TZOFFSETTO:-0500
TZNAME:EST
DTSTART:20241103T060000
END:STANDARD
BEGIN:DAYLIGHT
TZOFFSETFROM:-0500
TZOFFSETTO:-0400
TZNAME:EDT
DTSTART:20250309T070000
END:DAYLIGHT
BEGIN:STANDARD
TZOFFSETFROM:-0400
TZOFFSETTO:-0500
TZNAME:EST
DTSTART:20251102T060000
END:STANDARD
BEGIN:DAYLIGHT
TZOFFSETFROM:-0500
TZOFFSETTO:-0400
TZNAME:EDT
DTSTART:20260308T070000
END:DAYLIGHT
BEGIN:STANDARD
TZOFFSETFROM:-0400
TZOFFSETTO:-0500
TZNAME:EST
DTSTART:20261101T060000
END:STANDARD
END:VTIMEZONE
BEGIN:VEVENT
DTSTART;TZID=America/New_York:20250114T190000
DTEND;TZID=America/New_York:20250114T210000
DTSTAMP:20260424T104541
CREATED:20250107T204805Z
LAST-MODIFIED:20250107T204839Z
UID:10000424-1736881200-1736888400@cbbrooklyn.cityofnewyork.us
SUMMARY:Police and Public Safety Committee
DESCRIPTION:Agenda: \n\nReview of new retail dispensary premises at 8110-8112 5th Avenue\, Flynnstoned Cannabis Company\nNew SLA wine/beer/cider application for New Phoenix Seafood Restaurant Inc.\, 912 65th Street\nChange of class to liquor/wine/beer/cider license for Sabor Andino #2 Inc.\, 6314 14th Avenue\nNew SLA wine/beer/cider application for 86 Joy Café Inc.\, 8608 4th Avenue\nNew SLA liquor/wine/beer/cider application for Las Margaritas Bar & Restaurant\, 9208 3rd Avenue\nNew SLA liquor/wine/beer/cider application for Ravenhead Restaurants LLC\, 9221 5th Avenue
URL:https://cbbrooklyn.cityofnewyork.us/cb10/event/police-and-public-safety-committee-10/
LOCATION:In person at the District Office and livestreamed to YouTube\, 8119 5th Avenue\, Brooklyn\, NY\, 11209\, United States
END:VEVENT
END:VCALENDAR