BEGIN:VCALENDAR
VERSION:2.0
PRODID:-//Brooklyn Community Board 10 - ECPv6.15.20//NONSGML v1.0//EN
CALSCALE:GREGORIAN
METHOD:PUBLISH
X-ORIGINAL-URL:https://cbbrooklyn.cityofnewyork.us/cb10
X-WR-CALDESC:Events for Brooklyn Community Board 10
REFRESH-INTERVAL;VALUE=DURATION:PT1H
X-Robots-Tag:noindex
X-PUBLISHED-TTL:PT1H
BEGIN:VTIMEZONE
TZID:America/New_York
BEGIN:DAYLIGHT
TZOFFSETFROM:-0500
TZOFFSETTO:-0400
TZNAME:EDT
DTSTART:20230312T070000
END:DAYLIGHT
BEGIN:STANDARD
TZOFFSETFROM:-0400
TZOFFSETTO:-0500
TZNAME:EST
DTSTART:20231105T060000
END:STANDARD
BEGIN:DAYLIGHT
TZOFFSETFROM:-0500
TZOFFSETTO:-0400
TZNAME:EDT
DTSTART:20240310T070000
END:DAYLIGHT
BEGIN:STANDARD
TZOFFSETFROM:-0400
TZOFFSETTO:-0500
TZNAME:EST
DTSTART:20241103T060000
END:STANDARD
BEGIN:DAYLIGHT
TZOFFSETFROM:-0500
TZOFFSETTO:-0400
TZNAME:EDT
DTSTART:20250309T070000
END:DAYLIGHT
BEGIN:STANDARD
TZOFFSETFROM:-0400
TZOFFSETTO:-0500
TZNAME:EST
DTSTART:20251102T060000
END:STANDARD
END:VTIMEZONE
BEGIN:VEVENT
DTSTART;TZID=America/New_York:20240926T180000
DTEND;TZID=America/New_York:20240926T213000
DTSTAMP:20260423T022246
CREATED:20240828T173704Z
LAST-MODIFIED:20240828T173704Z
UID:10000409-1727373600-1727386200@cbbrooklyn.cityofnewyork.us
SUMMARY:Environmental Committee
DESCRIPTION:Agenda: \nThurs. Sept 26\, 2024; – Hybrid meeting at District Office beginning at 6:00 pm with DSNY Bin Info Session\, then continuing over Zoom \nEnvironmental Committee \n\nJoin DSNY Bin info session Thursday\, September 26 at 6:00 PM\n\nThere are options for the DSNY Bin Info session if you cannot attend on 9/26 at 6 pm as follows.  Pre Registration for Info Sessions is required. \n\nThursday\, August 29 at 2:00 PM\nThursday\, September 5 at 6:00 PM\nThursday\, September 12 at 4:00 PM\nThursday\, September 19 at 4:00 PM\nThursday\, September 26 at 6:00 PM\nMeeting continues at 7:00 pm with discussion of residential bin program in person at District Office or join over Zoom. Register at  https://bit.ly/ENV92624\n\n 
URL:https://cbbrooklyn.cityofnewyork.us/cb10/event/environmental-committee-2/
LOCATION:Via Zoom and live streamed to YouTube with Hybrid Component for limited in-person participation at the District Office
END:VEVENT
END:VCALENDAR