BEGIN:VCALENDAR
VERSION:2.0
PRODID:-//Brooklyn Community Board 10 - ECPv6.15.20//NONSGML v1.0//EN
CALSCALE:GREGORIAN
METHOD:PUBLISH
X-ORIGINAL-URL:https://cbbrooklyn.cityofnewyork.us/cb10
X-WR-CALDESC:Events for Brooklyn Community Board 10
REFRESH-INTERVAL;VALUE=DURATION:PT1H
X-Robots-Tag:noindex
X-PUBLISHED-TTL:PT1H
BEGIN:VTIMEZONE
TZID:America/New_York
BEGIN:DAYLIGHT
TZOFFSETFROM:-0500
TZOFFSETTO:-0400
TZNAME:EDT
DTSTART:20230312T070000
END:DAYLIGHT
BEGIN:STANDARD
TZOFFSETFROM:-0400
TZOFFSETTO:-0500
TZNAME:EST
DTSTART:20231105T060000
END:STANDARD
BEGIN:DAYLIGHT
TZOFFSETFROM:-0500
TZOFFSETTO:-0400
TZNAME:EDT
DTSTART:20240310T070000
END:DAYLIGHT
BEGIN:STANDARD
TZOFFSETFROM:-0400
TZOFFSETTO:-0500
TZNAME:EST
DTSTART:20241103T060000
END:STANDARD
BEGIN:DAYLIGHT
TZOFFSETFROM:-0500
TZOFFSETTO:-0400
TZNAME:EDT
DTSTART:20250309T070000
END:DAYLIGHT
BEGIN:STANDARD
TZOFFSETFROM:-0400
TZOFFSETTO:-0500
TZNAME:EST
DTSTART:20251102T060000
END:STANDARD
END:VTIMEZONE
BEGIN:VEVENT
DTSTART;TZID=America/New_York:20240618T190000
DTEND;TZID=America/New_York:20240618T213000
DTSTAMP:20260422T214812
CREATED:20240530T205440Z
LAST-MODIFIED:20240611T160601Z
UID:10000392-1718737200-1718746200@cbbrooklyn.cityofnewyork.us
SUMMARY:Traffic and Transportation Committee Meeting
DESCRIPTION:June 18\, 2024; 7:00 pm – Hybrid meeting in person at the District Office or join over Zoom  \nregister at: https://bit.ly/TT061824 Traffic and Transportation Committee \n\nReview of application submitted to NYC DOT for an Open Street at PS 170.  The Open Street will be in effect on school days from 8:00 am to 3:15 pm\, between Sept. 1\, 2024 through June 30\, 2025 and the street will be closed to vehicular traffic \nReview of Outdoor Dining Application submitted by Gino’s Restaurant\, 7414 5th Avenue\, for 6 tables and 24 seats on the sidewalk in front of the restaurant\nFinalization of CB 10 review process for Outdoor Dining applications 
URL:https://cbbrooklyn.cityofnewyork.us/cb10/event/cb-10/
LOCATION:Via Zoom and live streamed to YouTube with Hybrid Component for limited in-person participation at the District Office
END:VEVENT
END:VCALENDAR