BEGIN:VCALENDAR
VERSION:2.0
PRODID:-//Brooklyn Community Board 10 - ECPv6.15.20//NONSGML v1.0//EN
CALSCALE:GREGORIAN
METHOD:PUBLISH
X-WR-CALNAME:Brooklyn Community Board 10
X-ORIGINAL-URL:https://cbbrooklyn.cityofnewyork.us/cb10
X-WR-CALDESC:Events for Brooklyn Community Board 10
REFRESH-INTERVAL;VALUE=DURATION:PT1H
X-Robots-Tag:noindex
X-PUBLISHED-TTL:PT1H
BEGIN:VTIMEZONE
TZID:America/New_York
BEGIN:DAYLIGHT
TZOFFSETFROM:-0500
TZOFFSETTO:-0400
TZNAME:EDT
DTSTART:20220313T070000
END:DAYLIGHT
BEGIN:STANDARD
TZOFFSETFROM:-0400
TZOFFSETTO:-0500
TZNAME:EST
DTSTART:20221106T060000
END:STANDARD
BEGIN:DAYLIGHT
TZOFFSETFROM:-0500
TZOFFSETTO:-0400
TZNAME:EDT
DTSTART:20230312T070000
END:DAYLIGHT
BEGIN:STANDARD
TZOFFSETFROM:-0400
TZOFFSETTO:-0500
TZNAME:EST
DTSTART:20231105T060000
END:STANDARD
BEGIN:DAYLIGHT
TZOFFSETFROM:-0500
TZOFFSETTO:-0400
TZNAME:EDT
DTSTART:20240310T070000
END:DAYLIGHT
BEGIN:STANDARD
TZOFFSETFROM:-0400
TZOFFSETTO:-0500
TZNAME:EST
DTSTART:20241103T060000
END:STANDARD
END:VTIMEZONE
BEGIN:VEVENT
DTSTART;TZID=America/New_York:20230913T190000
DTEND;TZID=America/New_York:20230913T213000
DTSTAMP:20260423T224647
CREATED:20230821T154622Z
LAST-MODIFIED:20230906T161313Z
UID:10000341-1694631600-1694640600@cbbrooklyn.cityofnewyork.us
SUMMARY:Police and Public Safety Committee Meeting
DESCRIPTION:A PPS Committee meeting is scheduled for Wednesday\, September 13\, 2023 at 7:00 pm as a hybrid meeting.  You may join the meeting in person at the District Office or over Zoom. Please register to participate at https://bit.ly/PPS091323 \nAt that time\, the following SLA applications will be reviewed: \n\nNew wine\, beer\, cider application and temporary retail permit at New Rakuzen LLC\, 6408 Ft. Hamilton Parkway\nNew wine\, beer\, cider application at Dyker Pizza Company Inc.\, 1279 85th Street\n\n  \nPublic Notice flyer – Dyker Pizza  SLA Public Notice Flyer Sept. 13\, 2023 \nPubic Notice flyer – New Rakuzen SLA Public Notice Flyer – New Rakuzen LLC\, 6408 Fort Hamilton Parkway
URL:https://cbbrooklyn.cityofnewyork.us/cb10/event/police-and-public-safety-committee-meeting/
LOCATION:Via Zoom and live streamed to YouTube with Hybrid Component for limited in-person participation at the District Office
END:VEVENT
END:VCALENDAR